BEGIN:VCALENDAR
VERSION:2.0
PRODID:-//LuisGyG - ECPv6.15.17.1//NONSGML v1.0//EN
CALSCALE:GREGORIAN
METHOD:PUBLISH
X-WR-CALNAME:LuisGyG
X-ORIGINAL-URL:https://luisgyg.com
X-WR-CALDESC:Eventos para LuisGyG
REFRESH-INTERVAL;VALUE=DURATION:PT1H
X-Robots-Tag:noindex
X-PUBLISHED-TTL:PT1H
BEGIN:VTIMEZONE
TZID:America/Cancun
BEGIN:STANDARD
TZOFFSETFROM:-0500
TZOFFSETTO:-0500
TZNAME:EST
DTSTART:20250101T000000
END:STANDARD
END:VTIMEZONE
BEGIN:VEVENT
DTSTART;TZID=America/Cancun:20260422T080000
DTEND;TZID=America/Cancun:20260422T170000
DTSTAMP:20260419T072129
CREATED:20260406T174327Z
LAST-MODIFIED:20260406T174327Z
UID:218416-1776844800-1776877200@luisgyg.com
SUMMARY:Cómo la IA aplicada a marketing de concesionarias está transformando eventos del sector automotriz
DESCRIPTION:El próximo 22 de abril\, LuisGyG participará como invitado especial de Suzuki en un taller enfocado en la IA aplicada a marketing de concesionarias\, un tema que se ha convertido en pieza clave para la evolución del sector automotriz. \nEste evento reunirá a profesionales interesados en entender cómo la inteligencia artificial está redefiniendo la forma en que las marcas conectan con sus clientes\, optimizan procesos comerciales y generan experiencias más relevantes. La IA aplicada a marketing de concesionarias ya no es una tendencia futura\, sino una herramienta presente que está marcando diferencias competitivas claras. \nEn este contexto\, LuisGyG abordará casos prácticos\, herramientas y estrategias que permiten implementar soluciones reales\, desde automatización de leads hasta personalización de campañas digitales. Además\, el enfoque estará en cómo estas tecnologías pueden integrarse sin fricción en equipos comerciales tradicionales. \nIA aplicada a marketing de concesionarias: el enfoque del taller\nDurante el taller\, se explorará cómo la IA aplicada a marketing de concesionarias permite entender mejor al cliente\, anticipar decisiones de compra y optimizar cada punto de contacto en el journey automotriz. \nTambién se analizará el impacto actual de la inteligencia artificial en el trabajo\, tomando como referencia este análisis de IA Aplicada\, donde se evidencia cómo estas tecnologías están redefiniendo roles y habilidades dentro de las organizaciones. \nQuienes asistan obtendrán una visión clara\, práctica y accionable. Para quienes buscan profundizar en estos temas\, pueden explorar más en LuisGyG AI o conocer opciones de formación como este curso especializado. \nUn evento clave para entender el futuro del marketing automotriz\nLa IA aplicada a marketing de concesionarias será el eje de una conversación que apunta a transformar la forma en que se venden autos en los próximos años. \nEste tipo de iniciativas refleja cómo marcas como Suzuki están apostando por la innovación y la capacitación continua. Para quienes buscan una guía completa sobre estos conceptos\, resulta útil revisar esta guía de inteligencia artificial. \nEl taller no solo será una introducción\, sino una oportunidad para replantear estrategias y adoptar nuevas herramientas con impacto real. Además\, quienes estén interesados en llevar este tipo de contenidos a sus organizaciones pueden consultar las conferencias de LuisGyG. \nLa IA aplicada a marketing de concesionarias no es solo el tema del evento: es el punto de partida hacia una nueva forma de hacer negocio en la industria automotriz.
URL:https://luisgyg.com/event/ia-aplicada-a-marketing-de-concesionarias/
CATEGORIES:Talleres
ATTACH;FMTTYPE=image/jpeg:https://luisgyg.com/wp-content/uploads/2026/04/IA-aplicada-a-marketing-de-concesionarias.jpeg
ORGANIZER;CN="LuisGyG":MAILTO:contacto@luisgyg.com
END:VEVENT
END:VCALENDAR