BEGIN:VCALENDAR
VERSION:2.0
PRODID:-//LuisGyG - ECPv6.15.17.1//NONSGML v1.0//EN
CALSCALE:GREGORIAN
METHOD:PUBLISH
X-WR-CALNAME:LuisGyG
X-ORIGINAL-URL:https://luisgyg.com
X-WR-CALDESC:Eventos para LuisGyG
REFRESH-INTERVAL;VALUE=DURATION:PT1H
X-Robots-Tag:noindex
X-PUBLISHED-TTL:PT1H
BEGIN:VTIMEZONE
TZID:America/Mexico_City
BEGIN:STANDARD
TZOFFSETFROM:-0600
TZOFFSETTO:-0600
TZNAME:CST
DTSTART:20240101T000000
END:STANDARD
END:VTIMEZONE
BEGIN:VEVENT
DTSTART;TZID=America/Mexico_City:20251211T130000
DTEND;TZID=America/Mexico_City:20251211T153000
DTSTAMP:20260419T140740
CREATED:20251114T142118Z
LAST-MODIFIED:20251114T142118Z
UID:218160-1765458000-1765467000@luisgyg.com
SUMMARY:Creatividad\, Leyes y Futuro: Cómo la IA Está Reescribiendo la Publicidad
DESCRIPTION:Cuéntame algo: ¿qué hacemos cuando la creatividad deja de ser un privilegio caro y se vuelve una ventaja estratégica al alcance de cualquiera? En esta tercera y última sesión de mi taller de diciembre lo vamos a desmenuzar juntos. Te Entiendo: hoy producir un video digno de campaña ya no requiere un presupuesto de seis cifras\, sino criterio\, estrategia y una laptop. Nosotros vamos a explorar cómo los avatares digitales\, los escenarios imposibles y las nuevas narrativas inmersivas están cambiando las reglas del juego en marketing y publicidad. \nPero no nos quedamos solo en la parte espectacular. También vamos a bajar a tierra lo legal: derechos de autor\, vacíos regulatorios en México\, contratos que sí te protegen y cómo un prompt avanzado puede convertirse en un secreto industrial. Yo Recuerdo cada caso en el que una mala cláusula arruina una gran idea\, y no quiero que te pase. \nEs una sesión para tomar mejores decisiones\, blindar tu trabajo y ampliar tu capacidad de crear sin perder tu esencia. Gracias por estar aquí; esto se va a poner bueno.
URL:https://luisgyg.com/event/creatividad-leyes-y-futuro-como-la-ia-esta-reescribiendo-la-publicidad/
LOCATION:Zoom
CATEGORIES:Talleres
ATTACH;FMTTYPE=image/jpeg:https://luisgyg.com/wp-content/uploads/2025/11/Capacitacion-inteligencia-artificial-para-equipos.jpeg
ORGANIZER;CN="LuisGyG":MAILTO:contacto@luisgyg.com
END:VEVENT
END:VCALENDAR