BEGIN:VCALENDAR
VERSION:2.0
PRODID:-//LuisGyG - ECPv6.15.17.1//NONSGML v1.0//EN
CALSCALE:GREGORIAN
METHOD:PUBLISH
X-ORIGINAL-URL:https://luisgyg.com
X-WR-CALDESC:Eventos para LuisGyG
REFRESH-INTERVAL;VALUE=DURATION:PT1H
X-Robots-Tag:noindex
X-PUBLISHED-TTL:PT1H
BEGIN:VTIMEZONE
TZID:America/Mexico_City
BEGIN:STANDARD
TZOFFSETFROM:-0600
TZOFFSETTO:-0600
TZNAME:CST
DTSTART:20240101T000000
END:STANDARD
END:VTIMEZONE
BEGIN:VEVENT
DTSTART;TZID=America/Mexico_City:20251209T130000
DTEND;TZID=America/Mexico_City:20251209T153000
DTSTAMP:20260419T141116
CREATED:20251114T140922Z
LAST-MODIFIED:20251114T140922Z
UID:218153-1765285200-1765294200@luisgyg.com
SUMMARY:IA Aplicada a Marketing: La Sesión que Alinea tus Campañas con Resultados Reales
DESCRIPTION:Te Entiendo: en marketing todo cambia tan rápido que a veces parece que vamos corriendo detrás de la ola. Gracias por estar aquí\, porque esta sesión está diseñada justo para eso: ponernos al frente. \nEn esta primera sesión de mi nuevo taller nosotros entramos a lo esencial\, sin el rollo técnico que nadie necesita. Arrancamos con un diagnóstico claro para que entiendas dónde la IA ya está moviendo el tablero hoy\, no en 2030. Yo Recuerdo la cantidad de marcas que descubren tarde que sus campañas no fallan por creatividad\, sino porque no están leyendo los datos correctos. Aquí vas a ver cómo la IA te ayuda a encontrar el problema exacto. \nDespués bajamos a planificación estratégica: métricas que importan\, análisis con IA y KPIs que sí cuentan: CPL\, calidad de lead\, conversión. Nada que infle el ego; todo lo que mueve el ROI. \nTambién exploramos los perfiles Maker\, Taker y Shaper para entender cómo adoptas IA naturalmente y qué habilidades necesitas desarrollar: investigación\, ingeniería de prompts\, interpretación real de datos y mapeo de procesos para delegar lo correcto a la IA sin perder control. \nY cerramos con la habilidad que define tu futuro en marketing: prompting. Desde estructuras avanzadas hasta modelos\, uso estratégico de Perplexity\, personalización en ChatGPT y cómo clonar tu estilo para mantener tu identidad de marca sin perder esencia. \nEsta sesión es el punto donde tu marketing deja de adivinar y empieza a operar con claridad\, evidencia y estrategia.
URL:https://luisgyg.com/event/ia-aplicada-a-marketing-la-sesion-que-alinea-tus-campanas-con-resultados-reales/
LOCATION:Zoom
CATEGORIES:Talleres
ATTACH;FMTTYPE=image/jpeg:https://luisgyg.com/wp-content/uploads/2025/11/taller-ia-para-marketing-4-1-e1763119632689.jpeg
ORGANIZER;CN="LuisGyG":MAILTO:contacto@luisgyg.com
END:VEVENT
END:VCALENDAR