BEGIN:VCALENDAR
VERSION:2.0
PRODID:-//LuisGyG - ECPv6.15.17.1//NONSGML v1.0//EN
CALSCALE:GREGORIAN
METHOD:PUBLISH
X-WR-CALNAME:LuisGyG
X-ORIGINAL-URL:https://luisgyg.com
X-WR-CALDESC:Eventos para LuisGyG
REFRESH-INTERVAL;VALUE=DURATION:PT1H
X-Robots-Tag:noindex
X-PUBLISHED-TTL:PT1H
BEGIN:VTIMEZONE
TZID:America/Mexico_City
BEGIN:STANDARD
TZOFFSETFROM:-0600
TZOFFSETTO:-0600
TZNAME:CST
DTSTART:20240101T000000
END:STANDARD
END:VTIMEZONE
BEGIN:VEVENT
DTSTART;TZID=America/Mexico_City:20251027T090000
DTEND;TZID=America/Mexico_City:20251027T130000
DTSTAMP:20260419T161434
CREATED:20251020T193547Z
LAST-MODIFIED:20251020T193547Z
UID:217869-1761555600-1761570000@luisgyg.com
SUMMARY:Sesión Tec: Por Qué Tantas Empresas Abandonan la IA a Las Pocas Semanas
DESCRIPTION:No es falta de herramientas. Es falta de criterio. \n\nAnsiedad\, improvisación y pérdida de control: el verdadero enemigo.\nRegulaciones que ya están vigentes (AI Act\, compliance\, reputación).\nQué es alfabetización en IA y cómo convertirla en ventaja profesional real.\n\n  \n🔧 Este bloque es parte del taller de I.A. que daré en el Tec de Monterrey y no promete superpoderes. Te da un mapa para que no te pierdas en el camino. \n  \n  \nVas A Salir De Aquí Con 5 Superpoderes Nuevos:\n1. Criterio para tomar decisiones con IA\nVas a entender cuándo usarla\, cómo integrarla\, y qué NO delegar jamás.\nNi ChatGPT\, ni Gemini\, ni Copilot toman mejores decisiones que tú… si sabes cómo usarlas. \n2. Procesos claros para automatizar lo repetitivo\nMinutas\, reportes\, presentaciones\, mails…\nTodo lo que antes te comía tiempo\, ahora se resuelve con estrategia (no con más apps). \n3. Prompts profesionales que reflejan tu voz\nNo vas a copiar prompts de internet.\nVas a construir los tuyos.\nCon tu estilo. Tu tono. Tus objetivos. Y tu marca. \n4. Integración real de IA en tus proyectos\nSin necesidad de programar. Sin depender del equipo de sistemas.\nSin perder el control. \n5. Autoridad en tu industria\nPorque el que sabe usar IA con propósito\, toma mejores decisiones\, genera más rápido y se posiciona distinto.
URL:https://luisgyg.com/event/sesion-tec-taller-ia-redes-sciales/
LOCATION:Tec de Monterrey\, Mexico
CATEGORIES:Talleres
ATTACH;FMTTYPE=image/jpeg:https://luisgyg.com/wp-content/uploads/2025/10/taller-ia-aplicada-oct-02.jpeg
ORGANIZER;CN="LuisGyG":MAILTO:contacto@luisgyg.com
END:VEVENT
END:VCALENDAR