BEGIN:VCALENDAR
VERSION:2.0
PRODID:-//LuisGyG - ECPv6.15.17.1//NONSGML v1.0//EN
CALSCALE:GREGORIAN
METHOD:PUBLISH
X-ORIGINAL-URL:https://luisgyg.com
X-WR-CALDESC:Eventos para LuisGyG
REFRESH-INTERVAL;VALUE=DURATION:PT1H
X-Robots-Tag:noindex
X-PUBLISHED-TTL:PT1H
BEGIN:VTIMEZONE
TZID:America/Mexico_City
BEGIN:STANDARD
TZOFFSETFROM:-0600
TZOFFSETTO:-0600
TZNAME:CST
DTSTART:20240101T000000
END:STANDARD
END:VTIMEZONE
BEGIN:VEVENT
DTSTART;TZID=America/Mexico_City:20250115T130000
DTEND;TZID=America/Mexico_City:20250115T150000
DTSTAMP:20260420T083643
CREATED:20250106T184044Z
LAST-MODIFIED:20250106T184908Z
UID:216590-1736946000-1736953200@luisgyg.com
SUMMARY:Taller IA 2025: Si no dominas la IA este año\, te quedarás obsoleto
DESCRIPTION:Hace poco\, alguien me escribió para decirme que se había perdido una de mis sesiones en vivo\, pero que lo había visto grabado y… ¡opinó mientras veía la grabación! \n¿Quién hace eso? \nPero lo entiendo\, porque cuando algo es útil\, te quedas enganchado. Es justo lo que pasa con la inteligencia artificial: una vez que entiendes cómo usarla\, no hay vuelta atrás. \nAhora dime: ¿sigues haciendo todo “a mano”? \nPorque si es así\, estás dejando pasar oportunidades. Y\, no\, no es una exageración. \n¿Qué tan rápido te estás quedando atrás?\nPiénsalo. Llevas horas trabajando en un informe\, buscando datos y creando una presentación para tu equipo. Luego llega alguien\, usa IA\, y tiene todo listo en la mitad del tiempo. \nMejor organizado. Más impactante. \nEso no es ciencia ficción\, es lo que ya está pasando. \nNo saber usar IA hoy es como no saber usar internet hace 20 años. \n¿Te imaginas diciendo: “no uso Google porque me gusta ir a la biblioteca”? \nRidículo\, ¿verdad? Pues es igual de absurdo no dominar la IA en 2025. \nEsto no es solo otro curso aburrido\nSi lo fuera\, no te estaría invitando. \nAquí no se trata de sentarte y tomar notas para luego no aplicarlas. Se trata de aprender haciendo. \nQuiero que salgas de cada sesión con herramientas que uses ese mismo día. \n\nPrompts que funcionan. Un buen prompt puede ahorrarte horas de ajustes. Yo te enseño cómo hacerlos como un pro.\nContenido que conecta. ¿Sabías que la IA puede ayudarte a optimizar textos para SEO y a generar imágenes que parecen hechas por diseñadores? Sin gastar de más.\nResolución de problemas reales. Desde analizar datos en Excel hasta crear estrategias completas. Esto es pura practicidad.\n\nHistorias que hablan por sí solas\nUna empresa de marketing tenía que crear 50 piezas de contenido en una semana. \nEl equipo “tradicional” tardó tres días solo en organizarse. Mientras tanto\, un solo miembro usando IA terminó todo en 48 horas. \nEl resultado: el cliente pidió más proyectos… pero solo para él. Los demás se quedaron mirando. \n¿Quieres ser el que resuelve o el que mira? \n¿Qué te llevas del taller IA 2025?\n\nAcceso exclusivo a todas las sesiones grabadas.\nMateriales didácticos descargables.\nSesiones en vivo donde no solo aprendes\, sino que también aplicas.\n\nFechas y precios\nArranca el 13 de enero\, con sesiones de 4:00 PM a 6:00 PM.  Pero si quieres llegar después\, no hay problema. \nEl costo: $4\,000 MXN. Incluye facturación para quien lo necesite. \n¿Todavía dudando?\nCada minuto que pasa\, alguien más está aprendiendo a usar estas herramientas. \n¿Por qué no tú? \nNo dejes que el futuro te pase de largo. \nEntra a luisgyg.com\, inscríbete y empieza a dominar la IA con el Taller IA 2025. \nRecuerda: no se trata de trabajar más duro\, sino de trabajar más inteligente.
URL:https://luisgyg.com/event/taller-ia-2025-si-no-dominas-la-ia-este-ano-te-quedaras-obsoleto/
LOCATION:Zoom
CATEGORIES:Talleres
ATTACH;FMTTYPE=image/jpeg:https://luisgyg.com/wp-content/uploads/2025/01/taller-ia-2025.jpg
END:VEVENT
BEGIN:VEVENT
DTSTART;TZID=America/Mexico_City:20250115T160000
DTEND;TZID=America/Mexico_City:20250115T180000
DTSTAMP:20260420T083643
CREATED:20250106T174713Z
LAST-MODIFIED:20250106T174713Z
UID:216580-1736956800-1736964000@luisgyg.com
SUMMARY:Un taller de IA puede transformar a tu equipo y negocio - Sesión 2
DESCRIPTION:El otro día leí algo que me voló la cabeza. Según McKinsey\, las empresas que capacitan a su gente en inteligencia artificial pueden mejorar su productividad hasta un 40%. \n¡Cuarenta por ciento! \n¿Sabes lo que significa eso? \nQue el problema no está en el talento de tu equipo. El problema es que están trabajando con herramientas de la prehistoria. \nEs como pedirle a un carpintero que construya una mansión con un cuchillo de cocina. No importa qué tan bueno sea\, no va a llegar muy lejos. \n  \nCapacitar no es un gasto. Es una inversión.\nAhí va otro dato: PwC dice que las empresas que entrenan a su gente en tecnologías como la IA reducen sus costos operativos hasta un 30%. \n¿Por qué? \nPorque dejan de perder tiempo en tareas repetitivas\, empiezan a tomar decisiones más rápido y dedican más energía a lo que realmente importa: hacer crecer el negocio. \nAhora dime: ¿tu equipo está listo para aprovechar la IA? \nY no me refiero a jugar con ChatGPT. Hablo de usarla para hacer su trabajo más rápido\, más fácil y mejor. \nCapacitar no es un lujo\, es una necesidad. Y este mes arranco el Taller de IA con Eureka & Co.\, una de las agencias más destacadas en comunicación en México y Latinoamérica\, para demostrar cómo hacerlo bien. \n  \n¿Quiénes son Eureka?\nLlevan más de 15 años ayudando a marcas a conectar con las personas. Lo suyo no es solo hacer campañas. Construyen relaciones significativas entre marcas\, medios y audiencias. \nAdemás\, no es cualquier agencia. \nHan sido reconocidos como una de las mejores en relaciones públicas por Merca 2.0 y tienen presencia en países como Argentina\, Chile\, Colombia y España. \nSon una referencia en su industria. \nCuando me buscaron para trabajar con ellos\, tenían claro algo: querían integrar la inteligencia artificial en su día a día\, pero hacerlo de manera estratégica. Nada de aprender por encimita. Querían resultados reales. \nY ahí entré yo. \n  \nEl Taller de IA con Eureka\nEs privado\, diseñado específicamente para sus necesidades. En cuatro sesiones vamos a cubrir todo lo que un equipo necesita para aprovechar al máximo las herramientas de IA: \n\nSesión 1: Fundamentos y técnicas avanzadas de IA generativa. Aprenden a usar plataformas como Claude y Mistral\, y a crear prompts efectivos.\nSesión 2: Productividad al máximo. Desde optimizar presentaciones y textos hasta usar IA para redes sociales y SEO.\nSesión 3: Generación de contenido visual y multimedia. Imágenes\, videos y presentaciones que impresionan.\nSesión 4: Ética\, seguridad y casos prácticos. Cómo usar IA con cabeza\, sin riesgos y con impacto.\n\nAdemás\, todo esto lo complementan con un portal exclusivo donde tendrán acceso a las grabaciones\, guías y materiales prácticos por 30 días. \n¿Por qué te cuento esto?\nPorque este taller no es solo para Eureka. Es un ejemplo de cómo cualquier empresa puede prepararse para el presente y el futuro. \nSi tu equipo no está explorando la IA\, la competencia lo está haciendo por ti. \nNo importa si lo haces conmigo o no\, lo que es vital es que CAPACITES a tu equipo. \nEl taller arrancó este 8 de enero. \nMás detalles en luisgyg.com/mail. \nAh\, y recuerda lo que dice McKinsey: el que no capacite hoy\, verá a otros ganar mañana.
URL:https://luisgyg.com/event/un-taller-de-ia-puede-transformar-a-tu-equipo-y-negocio-sesion-2/
LOCATION:Zoom
CATEGORIES:Talleres
ATTACH;FMTTYPE=image/jpeg:https://luisgyg.com/wp-content/uploads/2025/01/taller-de-ia-2025-eureka.jpg
ORGANIZER;CN="LuisGyG":MAILTO:contacto@luisgyg.com
END:VEVENT
END:VCALENDAR