BEGIN:VCALENDAR
VERSION:2.0
PRODID:-//LuisGyG - ECPv6.15.17.1//NONSGML v1.0//EN
CALSCALE:GREGORIAN
METHOD:PUBLISH
X-WR-CALNAME:LuisGyG
X-ORIGINAL-URL:https://luisgyg.com
X-WR-CALDESC:Eventos para LuisGyG
REFRESH-INTERVAL;VALUE=DURATION:PT1H
X-Robots-Tag:noindex
X-PUBLISHED-TTL:PT1H
BEGIN:VTIMEZONE
TZID:America/Mexico_City
BEGIN:STANDARD
TZOFFSETFROM:-0600
TZOFFSETTO:-0600
TZNAME:CST
DTSTART:20240101T000000
END:STANDARD
END:VTIMEZONE
BEGIN:VEVENT
DTSTART;TZID=America/Mexico_City:20250110T160000
DTEND;TZID=America/Mexico_City:20250110T170000
DTSTAMP:20260420T084301
CREATED:20250106T163949Z
LAST-MODIFIED:20250106T165241Z
UID:216572-1736524800-1736528400@luisgyg.com
SUMMARY:¿Qué es esto y por qué no me lo había contado antes?
DESCRIPTION:Eso pensé cuando preparaba el live del 10 de enero. \nEs exclusivo para quienes aprovecharon la promoción y pagaron $2\,500 en lugar de los $4\,000 que cuesta el taller que empieza el 13 de enero. Y no\, no es un simple adelanto. \nAhí vamos a desmenuzar todo el programa del taller. \nVeremos algunos de los materiales. \nY\, lo mejor\, tendrán acceso anticipado a mi nuevo libro. \nUn libro sencillo\, directo y práctico\, que responde a las preguntas más populares que surgieron el año pasado en mis talleres de inteligencia artificial. Todo explicado para que lo entienda hasta tu primo que cree que el WiFi es magia. \nAdemás\, podrás resolver tus dudas en vivo\, adelantarte y llegar al taller con todo claro. \nLo más interesante es que este live también está incluido como beneficio para quienes están en la membresía 🔥 QuemaMaster. Sí\, lo que pagaste tiene más valor del que creías. \nLa cita es el 10 de enero a las 4 p. m. \nSi quieres acceso a oportunidades como esta\, ve a luisgyg.com/mail. Nos vemos ahí. \n 
URL:https://luisgyg.com/event/que-es-esto-y-por-que-no-me-lo-habia-contado-antes/
LOCATION:YouTube\, Mexico
CATEGORIES:Talleres
ATTACH;FMTTYPE=image/jpeg:https://luisgyg.com/wp-content/uploads/2025/01/live-luisgyg-10-de-enero.jpg
END:VEVENT
END:VCALENDAR