BEGIN:VCALENDAR
VERSION:2.0
PRODID:-//LuisGyG - ECPv6.15.17.1//NONSGML v1.0//EN
CALSCALE:GREGORIAN
METHOD:PUBLISH
X-ORIGINAL-URL:https://luisgyg.com
X-WR-CALDESC:Eventos para LuisGyG
REFRESH-INTERVAL;VALUE=DURATION:PT1H
X-Robots-Tag:noindex
X-PUBLISHED-TTL:PT1H
BEGIN:VTIMEZONE
TZID:America/Mexico_City
BEGIN:STANDARD
TZOFFSETFROM:-0600
TZOFFSETTO:-0600
TZNAME:CST
DTSTART:20230101T000000
END:STANDARD
END:VTIMEZONE
BEGIN:VEVENT
DTSTART;TZID=America/Mexico_City:20241017T100000
DTEND;TZID=America/Mexico_City:20241017T120000
DTSTAMP:20260420T135821
CREATED:20241002T204149Z
LAST-MODIFIED:20241003T202134Z
UID:215770-1729159200-1729166400@luisgyg.com
SUMMARY:Taller privado de IA para Agencia de Diseño - Sesión 3
DESCRIPTION:Muchas agencias se enfrentan al reto de optimizar sus procesos de comunicación corporativa\, y eso puede convertirse en una verdadera barrera para alcanzar la eficiencia que se espera en un entorno tan competitivo. En este contexto\, estoy feliz de anunciar que daré un taller privado para la agencia Generador Studio\, enfocado en el uso de la inteligencia artificial para mejorar la productividad y la calidad del contenido generado. A veces\, simplemente se necesitan nuevas herramientas para hacer frente a los desafíos que implica la producción constante de informes anuales\, y es aquí donde la IA tiene un papel crucial. \nEste taller privado para agencias se centra en enseñar cómo utilizar la IA generativa para la productividad\, con sesiones específicas que permitirán a Generador integrar estas tecnologías en su operación diaria. Las fechas que hemos coordinado para este taller son los días 14\, 16\, 17 y 25 de octubre\, y cada sesión tendrá una duración de dos horas\, ofreciendo un total de ocho horas de contenido especializado. Los participantes no sólo obtendrán formación en técnicas avanzadas para generar textos y conceptos mediante IA\, sino que también recibirán un compendio de prompts personalizados que les ayudará a maximizar los resultados en su trabajo. Además\, el material cubierto incluirá la automatización de la recopilación de datos y el uso de audios y videos para recabar información de manera eficiente. \nEl taller privado para Generador Studio incluirá módulos sobre la automatización de la recopilación y estructuración de información\, algo vital para agencias que manejan un gran volumen de datos provenientes de distintas fuentes\, como PDFs y hojas de cálculo de Excel. Con técnicas avanzadas y herramientas específicas\, los asistentes aprenderán a clasificar y ordenar información de manera automatizada. Imagina ahorrar horas de trabajo manual al generar secciones de un informe simplemente integrando IA: eso es lo que buscaremos conseguir. Además\, cada sesión se grabará y estará disponible hasta 30 días después para quienes necesiten volver a consultarla. \nSegún un estudio de McKinsey\, el 40% de las tareas de oficina se pueden automatizar con IA\, lo que muestra el enorme potencial de estas herramientas para agencias como Generador. \n  \nImplementación de la IA en el Trabajo Diario\nFinalmente\, el taller abordará cómo implementar la IA en la operación diaria de Generador. No se trata solo de aprender a usar una herramienta; también se trata de entender en qué procesos la IA puede marcar una verdadera diferencia y quiénes del equipo deberían especializarse en su manejo. Durante este taller privado para Generador Studio\, se discutirá un plan de acción claro\, que ayudará a definir KPIs y métricas que permitan medir la mejora en tiempos y calidad del trabajo. Los resultados hablarán por sí solos y\, sin duda\, establecerán un nuevo estándar de productividad en el ámbito de la comunicación corporativa. \n¿Qué obtiene una agencia con mis talleres?\n\nHerramientas personalizadas: Un compendio de prompts diseñados para optimizar el uso de IA en la creación de informes y otros contenidos corporativos.\nReducción significativa del tiempo de producción: La automatización de tareas clave permitirá que los equipos se enfoquen en aspectos más creativos y estratégicos.\nCapacitación enfocada y práctica: Sesiones diseñadas para integrar la IA en procesos específicos del día a día\, aumentando la productividad y mejorando la calidad de los resultados.
URL:https://luisgyg.com/event/taller-privado-para-agencias-2-2/
LOCATION:Zoom
CATEGORIES:Talleres
ATTACH;FMTTYPE=image/jpeg:https://luisgyg.com/wp-content/uploads/2024/10/taller-privado-para-agencias.jpg
ORGANIZER;CN="LuisGyG":MAILTO:contacto@luisgyg.com
END:VEVENT
BEGIN:VEVENT
DTSTART;TZID=America/Mexico_City:20241017T190000
DTEND;TZID=America/Mexico_City:20241017T223000
DTSTAMP:20260420T135821
CREATED:20241002T174057Z
LAST-MODIFIED:20241002T174106Z
UID:215756-1729191600-1729204200@luisgyg.com
SUMMARY:Descubre cómo la IA y AVI-SPL están revolucionando el trabajo híbrido.
DESCRIPTION:La Inteligencia Artificial está cambiando rápidamente la forma en que trabajamos y nos comunicamos. Aunque hay avances tecnológicos que nos facilitan la vida\, muchas empresas aún sienten incertidumbre sobre cómo adaptarse a estos cambios. Para los negocios que buscan ser más competitivos\, integrar soluciones basadas en IA ya no es una opción\, sino una necesidad. Este es uno de los puntos clave que abordaré el 17 de octubre en el panel del evento VIBE CDMX\, organizado por AVI-SPL\, que tendrá lugar en el Acuario Inbursa. \nEl próximo 17 de octubre\, estaré participando en el evento VIBE en la Ciudad de México. Este evento\, organizado por AVI-SPL\, reunirá a líderes de tecnología y transformación digital para discutir el futuro de la Inteligencia Artificial. Compartiré el escenario con Héctor Oxte Reséndiz\, quien será el moderador del panel y es Sales Manager en AVI-SPL México\, además de otros panelistas como José De la Peña\, Director de Infraestructura y Operaciones de IT en Iconn\, Patrick Piwowarczyk\, Head of AV Integrator Channel de HP\, y Javier Velásquez\, arquitecto de comunicaciones unificadas en Microsoft. \nEste evento no solo es una oportunidad para aprender sobre IA\, sino también para conectar y compartir experiencias con otros profesionales del sector. AVI-SPL\, reconocida por su experiencia en la integración de soluciones audiovisuales y comunicaciones unificadas\, mostrará cómo la tecnología está evolucionando hacia un enfoque más personalizado. En el panel\, hablaremos sobre el impacto de la IA en la eficiencia operativa y en la mejora de los espacios de trabajo híbridos. Es una excelente oportunidad para ver de primera mano cómo se están utilizando estas herramientas para hacer la comunicación más intuitiva y natural. \nLa relevancia de AVI-SPL en el desarrollo de tecnologías IA\nAVI-SPL ha estado a la vanguardia en la implementación de tecnologías audiovisuales en espacios corporativos y educativos. Desde salas de videoconferencia hasta entornos de colaboración híbrida\, sus soluciones son cada vez más relevantes en el contexto actual donde la comunicación remota es esencial. En el panel\, discutiré cómo AVI-SPL utiliza la IA para transformar estas experiencias\, haciendo que la comunicación sea más natural e intuitiva\, y cómo están llevando la tecnología de realidad virtual para visualizar proyectos antes de ser construidos. \nLo que puedes esperar del panel de AVI-SPL sobre IA en VIBE CDMX\nEl panel será un espacio para discutir tanto los beneficios como los desafíos de la integración de la IA en los espacios de trabajo. Si bien la IA puede mejorar drásticamente la productividad y la eficiencia\, también presenta retos\, como la necesidad de aprender nuevas habilidades y adaptarse a herramientas cada vez más complejas. En AVI-SPL\, el enfoque es siempre proporcionar soluciones prácticas que se adapten a las necesidades reales de las empresas\, asegurando que cualquier tecnología adoptada ofrezca un retorno tangible. Durante el evento\, también se presentarán demos en vivo que mostrarán cómo estas tecnologías están impactando la forma en que colaboramos y trabajamos. \n\nPor qué ir a VIBE:\n\nConéctate con expertos de la industria: El evento contará con líderes como Héctor Oxte de AVI-SPL y Patrick Piwowarczyk de HP\, quienes compartirán sus conocimientos sobre cómo la IA está transformando los espacios de trabajo.\nExperiencia práctica y demostraciones en vivo: Explora cómo la realidad virtual y la IA se están implementando para mejorar procesos antes de realizar grandes inversiones\, una tecnología clave en el portafolio de soluciones de AVI-SPL.\nNetworking con profesionales del sector: Aprovecha la oportunidad de conocer y conectar con otros profesionales que también buscan implementar soluciones tecnológicas avanzadas en sus negocios.
URL:https://luisgyg.com/event/descubre-como-la-ia-y-avi-spl-estan-revolucionando-el-trabajo-hibrido/
LOCATION:Acuario Inbursa
CATEGORIES:Conferencias
ATTACH;FMTTYPE=image/jpeg:https://luisgyg.com/wp-content/uploads/2024/10/tendencias-en-videoconferencias-avi-spl.jpg
END:VEVENT
END:VCALENDAR