BEGIN:VCALENDAR
VERSION:2.0
PRODID:-//LuisGyG - ECPv6.15.17.1//NONSGML v1.0//EN
CALSCALE:GREGORIAN
METHOD:PUBLISH
X-WR-CALNAME:LuisGyG
X-ORIGINAL-URL:https://luisgyg.com
X-WR-CALDESC:Eventos para LuisGyG
REFRESH-INTERVAL;VALUE=DURATION:PT1H
X-Robots-Tag:noindex
X-PUBLISHED-TTL:PT1H
BEGIN:VTIMEZONE
TZID:America/Mexico_City
BEGIN:STANDARD
TZOFFSETFROM:-0600
TZOFFSETTO:-0600
TZNAME:CST
DTSTART:20230101T000000
END:STANDARD
END:VTIMEZONE
BEGIN:VEVENT
DTSTART;TZID=America/Mexico_City:20241014T100000
DTEND;TZID=America/Mexico_City:20241014T120000
DTSTAMP:20260420T135346
CREATED:20241002T204027Z
LAST-MODIFIED:20241003T201958Z
UID:215763-1728900000-1728907200@luisgyg.com
SUMMARY:Taller privado de IA para agencia de Generador Studio - Sesión 1
DESCRIPTION:Muchas agencias se enfrentan al reto de optimizar sus procesos de comunicación corporativa\, y eso puede convertirse en una verdadera barrera para alcanzar la eficiencia que se espera en un entorno tan competitivo. En este contexto\, estoy feliz de anunciar que daré un taller privado para la agencia Generador Studio\, enfocado en el uso de la inteligencia artificial para mejorar la productividad y la calidad del contenido generado. A veces\, simplemente se necesitan nuevas herramientas para hacer frente a los desafíos que implica la producción constante de informes anuales\, y es aquí donde la IA tiene un papel crucial. \nEste taller privado para agencias se centra en enseñar cómo utilizar la IA generativa para la productividad\, con sesiones específicas que permitirán a Generador integrar estas tecnologías en su operación diaria. Las fechas que hemos coordinado para este taller son los días 14\, 16\, 17 y 25 de octubre\, y cada sesión tendrá una duración de dos horas\, ofreciendo un total de ocho horas de contenido especializado. Los participantes no sólo obtendrán formación en técnicas avanzadas para generar textos y conceptos mediante IA\, sino que también recibirán un compendio de prompts personalizados que les ayudará a maximizar los resultados en su trabajo. Además\, el material cubierto incluirá la automatización de la recopilación de datos y el uso de audios y videos para recabar información de manera eficiente. \nEl taller privado para Generador Studio incluirá módulos sobre la automatización de la recopilación y estructuración de información\, algo vital para agencias que manejan un gran volumen de datos provenientes de distintas fuentes\, como PDFs y hojas de cálculo de Excel. Con técnicas avanzadas y herramientas específicas\, los asistentes aprenderán a clasificar y ordenar información de manera automatizada. Imagina ahorrar horas de trabajo manual al generar secciones de un informe simplemente integrando IA: eso es lo que buscaremos conseguir. Además\, cada sesión se grabará y estará disponible hasta 30 días después para quienes necesiten volver a consultarla. \nSegún un estudio de McKinsey\, el 40% de las tareas de oficina se pueden automatizar con IA\, lo que muestra el enorme potencial de estas herramientas para agencias como Generador. \n  \nImplementación de la IA en el Trabajo Diario\nFinalmente\, el taller abordará cómo implementar la IA en la operación diaria de Generador. No se trata solo de aprender a usar una herramienta; también se trata de entender en qué procesos la IA puede marcar una verdadera diferencia y quiénes del equipo deberían especializarse en su manejo. Durante este taller privado para Generador Studio\, se discutirá un plan de acción claro\, que ayudará a definir KPIs y métricas que permitan medir la mejora en tiempos y calidad del trabajo. Los resultados hablarán por sí solos y\, sin duda\, establecerán un nuevo estándar de productividad en el ámbito de la comunicación corporativa. \n¿Qué obtiene una agencia con mis talleres?\n\nHerramientas personalizadas: Un compendio de prompts diseñados para optimizar el uso de IA en la creación de informes y otros contenidos corporativos.\nReducción significativa del tiempo de producción: La automatización de tareas clave permitirá que los equipos se enfoquen en aspectos más creativos y estratégicos.\nCapacitación enfocada y práctica: Sesiones diseñadas para integrar la IA en procesos específicos del día a día\, aumentando la productividad y mejorando la calidad de los resultados.
URL:https://luisgyg.com/event/taller-privado-para-agencias/
LOCATION:Zoom
CATEGORIES:Talleres
ATTACH;FMTTYPE=image/jpeg:https://luisgyg.com/wp-content/uploads/2024/10/taller-privado-para-agencias.jpg
ORGANIZER;CN="LuisGyG":MAILTO:contacto@luisgyg.com
END:VEVENT
BEGIN:VEVENT
DTSTART;TZID=America/Mexico_City:20241014T160000
DTEND;TZID=America/Mexico_City:20241014T170000
DTSTAMP:20260420T135346
CREATED:20241003T185809Z
LAST-MODIFIED:20241003T185810Z
UID:215797-1728921600-1728925200@luisgyg.com
SUMMARY:Cómo transformar videos largos en resúmenes útiles usando IA fácilmente
DESCRIPTION:¿Quieres transformar horas de contenido en piezas valiosas sin tener que pasar horas viendo videos enteros? 🎥✂️ \nEl próximo lunes 14 de octubre a las 4 PM (hora del Centro de México)\, te invito a un taller en vivo donde te enseñaré a resumir videos largos y utilizar sus transcripciones como materia prima para generar contenido efectivo con IA. Aprenderás a extraer lo esencial y crear nuevos materiales con el mínimo esfuerzo y máxima eficiencia\, sin necesidad de editar videos. \nEn este taller gratuito\, vamos a cubrir: \n\nCómo usar herramientas de transcripción de videos como Riverside o YouTube para obtener versiones escritas del contenido audiovisual. La transcripción es clave para que la IA pueda trabajar con los textos de manera más efectiva. Riverside\, por ejemplo\, ha sido ampliamente utilizado por creadores de contenido como Joe Rogan para transcribir sus entrevistas\, mientras que YouTube ha mejorado sus capacidades de transcripción en el último año\, haciendo más sencillo el acceso a la información.\nCómo usar prompts efectivos para obtener resúmenes claros y concisos. Te mostraré cómo guiar a la IA para que extraiga los puntos más importantes\, generando un resumen con la información más relevante para ti. En mis proyectos de consultoría y mis clases en el Tec de Monterrey\, utilizar prompts efectivos ha sido fundamental para mejorar la productividad al analizar grandes volúmenes de información en poco tiempo.\nCómo convertir esos resúmenes en nuevos contenidos: desde artículos para blogs\, publicaciones en redes sociales\, hasta ideas para crear presentaciones y mucho más. Durante mi trabajo con LG y MercadoLibre\, la reutilización de contenidos ha sido clave para multiplicar la exposición de un mensaje sin aumentar costos de producción.\n\nAl final del taller\, recibirás mi guía gratuita: «Guía para Analizar Videos con IA y Obtener Resúmenes Rápidos». 📄🎁 En esta guía te explico detalladamente cómo utilizar las transcripciones de videos con IA para maximizar tu productividad. Incluye ejemplos de prompts y técnicas para que puedas aplicar lo aprendido al instante. \nNo te pierdas esta oportunidad de transformar la forma en la que trabajas con contenido en video y aumentar tu eficiencia. ¡Nos vemos el 14 de octubre a las 4 PM! \nCómo puedes usar este conocimiento en tu trabajo diario:\n\nAumentar la eficiencia en la generación de reportes: Utiliza resúmenes generados por IA para extraer información clave de reuniones y presentaciones. De esta forma\, tendrás resúmenes listos para compartir con tu equipo sin tener que escuchar horas de grabaciones.\nCrear contenido para marketing y redes sociales: A partir de un video largo\, utiliza los resúmenes para generar artículos\, posts\, o guiones. Esto es especialmente útil si trabajas en marketing digital\, donde la reutilización de contenido puede aumentar tu presencia sin necesidad de producir más material.\nDocumentación rápida para procesos de aprendizaje: Si eres coach o consultor\, convierte tus grabaciones en resúmenes precisos que puedas compartir con tus clientes. Esto agilizará el proceso de entrega de información y aumentará la calidad del servicio.\n\n#IA #TallerEnVivo #ResúmenesConIA #Automatización #MarketingDigital #LuisGyG #AprovechaTusVideos #EficienciaConIA
URL:https://luisgyg.com/event/como-resumir-videos/
CATEGORIES:Talleres
ATTACH;FMTTYPE=image/jpeg:https://luisgyg.com/wp-content/uploads/2024/10/resumir-videos-largos-con-ia-luisgyg.jpg
ORGANIZER;CN="LuisGyG":MAILTO:contacto@luisgyg.com
END:VEVENT
END:VCALENDAR