BEGIN:VCALENDAR
VERSION:2.0
PRODID:-//LuisGyG - ECPv6.15.17.1//NONSGML v1.0//EN
CALSCALE:GREGORIAN
METHOD:PUBLISH
X-ORIGINAL-URL:https://luisgyg.com
X-WR-CALDESC:Eventos para LuisGyG
REFRESH-INTERVAL;VALUE=DURATION:PT1H
X-Robots-Tag:noindex
X-PUBLISHED-TTL:PT1H
BEGIN:VTIMEZONE
TZID:America/Mexico_City
BEGIN:STANDARD
TZOFFSETFROM:-0600
TZOFFSETTO:-0600
TZNAME:CST
DTSTART:20230101T000000
END:STANDARD
END:VTIMEZONE
BEGIN:VEVENT
DTSTART;TZID=America/Mexico_City:20240826T110000
DTEND;TZID=America/Mexico_City:20240826T140000
DTSTAMP:20260420T154011
CREATED:20240727T163806Z
LAST-MODIFIED:20240914T142435Z
UID:213269-1724670000-1724680800@luisgyg.com
SUMMARY:Aplicaciones de la I.A. a la industria Cárnica
DESCRIPTION:Tengo una gran noticia: Grupo Capistrano me ha contratado para dar un taller presencial en Celaya\, Guanajuato sobre “Aplicaciones de la Inteligencia Artificial en la Industria Cárnica”. Este taller está diseñado para un grupo exclusivo de 30 personas. \nEl taller no solo se centrará en los conceptos básicos de la inteligencia artificial y su ética\, sino que también abordará\, estrategias para crear prompts efectivos\, y técnicas de manejo y protección de datos. Además\, veremos ejemplos específicos y ejercicios prácticos adaptados a las necesidades de la industria cárnica. \nCada participante recibirá una copia digital de mi libro «Esto No Es Juego»\, donde aprenderán diversas maneras de comunicarse de forma efectiva con la IA\, así como un compendio de prompts efectivos que uso en mi trabajo diario. \nSi quieres que lleve este taller a tu compañía y exploren juntos el potencial de la inteligencia artificial en su industria\, contáctame en contacto@luisgyg.com. Estoy seguro de que será una experiencia enriquecedora y llena de valor para tu equipo.
URL:https://luisgyg.com/event/aplicaciones-de-la-i-a-a-la-industria-carnica/
LOCATION:Privado
CATEGORIES:Talleres
ATTACH;FMTTYPE=image/webp:https://luisgyg.com/wp-content/uploads/2024/07/taller-copilot-Capistrano.webp
ORGANIZER;CN="LuisGyG":MAILTO:contacto@luisgyg.com
END:VEVENT
END:VCALENDAR