BEGIN:VCALENDAR
VERSION:2.0
PRODID:-//LuisGyG - ECPv6.15.17.1//NONSGML v1.0//EN
CALSCALE:GREGORIAN
METHOD:PUBLISH
X-WR-CALNAME:LuisGyG
X-ORIGINAL-URL:https://luisgyg.com
X-WR-CALDESC:Eventos para LuisGyG
REFRESH-INTERVAL;VALUE=DURATION:PT1H
X-Robots-Tag:noindex
X-PUBLISHED-TTL:PT1H
BEGIN:VTIMEZONE
TZID:UTC
BEGIN:STANDARD
TZOFFSETFROM:+0000
TZOFFSETTO:+0000
TZNAME:UTC
DTSTART:20230101T000000
END:STANDARD
END:VTIMEZONE
BEGIN:VEVENT
DTSTART;TZID=UTC:20240726T160000
DTEND;TZID=UTC:20240806T190000
DTSTAMP:20260420T171924
CREATED:20240310T001752Z
LAST-MODIFIED:20240914T142435Z
UID:38-1722009600-1722970800@luisgyg.com
SUMMARY:Hacks y Estrategias con IA para la Comunicación y las RRPP
DESCRIPTION:Les cuento que me han contratado para dar un taller súper interesante para la agencia Kaleidoscopio PR. Se llama «Hacks y Estrategias con IA para la Comunicación y las RRPP«. En estas seis sesiones\, vamos a aprender a sacarle el máximo provecho a las herramientas de IA generativa para optimizar la creación de contenidos digitales. \nEl taller incluye de todo\, desde los conceptos básicos de IA y su aplicación ética\, hasta técnicas avanzadas para crear prompts efectivos. Además\, viene con materiales extra como mi libro «Esto No Es Juego» y un compendio de prompts para que perfeccionen sus habilidades. \nSi les interesa algo así para su compañía\, no duden en escribirme a contacto@luisgyg.com. ¡Nos vemos!
URL:https://luisgyg.com/event/ix-congreso-selenita-en-la-tierra/
LOCATION:Zoom
CATEGORIES:Talleres
ATTACH;FMTTYPE=image/webp:https://luisgyg.com/wp-content/uploads/2024/03/taller-kaleidoscopio.webp
ORGANIZER;CN="LuisGyG":MAILTO:contacto@luisgyg.com
END:VEVENT
END:VCALENDAR