BEGIN:VCALENDAR
VERSION:2.0
PRODID:-//LuisGyG - ECPv6.15.17.1//NONSGML v1.0//EN
CALSCALE:GREGORIAN
METHOD:PUBLISH
X-ORIGINAL-URL:https://luisgyg.com
X-WR-CALDESC:Eventos para LuisGyG
REFRESH-INTERVAL;VALUE=DURATION:PT1H
X-Robots-Tag:noindex
X-PUBLISHED-TTL:PT1H
BEGIN:VTIMEZONE
TZID:America/Mexico_City
BEGIN:STANDARD
TZOFFSETFROM:-0600
TZOFFSETTO:-0600
TZNAME:CST
DTSTART:20230101T000000
END:STANDARD
END:VTIMEZONE
BEGIN:VEVENT
DTSTART;TZID=America/Mexico_City:20240724T160000
DTEND;TZID=America/Mexico_City:20240725T190000
DTSTAMP:20260420T191025
CREATED:20240701T073413Z
LAST-MODIFIED:20240914T142435Z
UID:4368-1721836800-1721934000@luisgyg.com
SUMMARY:Taller abierto: Transforma tu trabajo con inteligencia artificial
DESCRIPTION:Transforma tu Trabajo con Inteligencia Artificial\n\n\n\n\n\n\n¿Quieres aprovechar al máximo la inteligencia artificial en tu día a día? \nÚnete a este taller donde aprenderás a usar la IA de forma práctica y sencilla para mejorar tu productividad y eficiencia en el trabajo. \n\n\n\n\n\nAquí aprenderás a:\n\n\n\n\n\n\nEntender la IA Generativa y de qué te sirve.\nCrear imágenes impresionantes.\nRealizar presentaciones rápidamente.\nEscribir minutas de forma eficiente.\nAnalizar videos de YouTube.\nUtilizar audios para crear contenidos.\nRealizar investigaciones con I.A.\nVer como se integra Copilot con Mac y Google\nGenerar Mensajes para Redes Sociales.\nOptimización de textos para motores de búsqueda (SEO).\nCrear posts para LinkedIn.\nResolver tus dudas y mucho más…\n\n\n\n\n\n\n\n6 horas de contenido en 2 sesiones. \nVía Zoom. \nCosto: MX$2\,900.00 (US$160.00) \n\n\n\n\n\n\nAdemás de 6 horas de contenido de valor\, recibirás: \n\nUna copia digital de mi libro Esto No Es Juego\, en el que aprenderás diversas maneras de comunicarte de forma efectiva con la I.A.\nUn compendio de prompts efectivos que yo mismo uso para mejorar mi trabajo diario.\n\n\n\n\n\n\n\n\n\n\n\n\n\n\n\n\nRealiza tu pago vía PayPal o mediante depósito bancario a la cuenta \nBBVA 0463610519 CLABE: 012180004636105199 \nUna vez realizado el depósito\, enviar comprobante a contacto@luisgyg.com
URL:https://luisgyg.com/event/taller-abierto-transforma-tu-trabajo-con-inteligencia-artificial/
LOCATION:Zoom
CATEGORIES:Talleres
ORGANIZER;CN="LuisGyG":MAILTO:contacto@luisgyg.com
END:VEVENT
END:VCALENDAR