BEGIN:VCALENDAR
VERSION:2.0
PRODID:-//LuisGyG - ECPv6.15.17.1//NONSGML v1.0//EN
CALSCALE:GREGORIAN
METHOD:PUBLISH
X-WR-CALNAME:LuisGyG
X-ORIGINAL-URL:https://luisgyg.com
X-WR-CALDESC:Eventos para LuisGyG
REFRESH-INTERVAL;VALUE=DURATION:PT1H
X-Robots-Tag:noindex
X-PUBLISHED-TTL:PT1H
BEGIN:VTIMEZONE
TZID:America/Mexico_City
BEGIN:STANDARD
TZOFFSETFROM:-0600
TZOFFSETTO:-0600
TZNAME:CST
DTSTART:20240101T000000
END:STANDARD
END:VTIMEZONE
BEGIN:VEVENT
DTSTART;TZID=America/Mexico_City:20251021T160000
DTEND;TZID=America/Mexico_City:20251021T180000
DTSTAMP:20260419T154618
CREATED:20251020T191252Z
LAST-MODIFIED:20251020T191253Z
UID:217855-1761062400-1761069600@luisgyg.com
SUMMARY:Sesión: Por Qué Tantas Empresas Abandonan la IA a Las Pocas Semanas
DESCRIPTION:No es falta de herramientas. Es falta de criterio. \n\nAnsiedad\, improvisación y pérdida de control: el verdadero enemigo.\nRegulaciones que ya están vigentes (AI Act\, compliance\, reputación).\nQué es alfabetización en IA y cómo convertirla en ventaja profesional real.\n\n  \n🔧 Este bloque es parte de mi Taller de IA y no te promete superpoderes. Te da un mapa para que no te pierdas en el camino. \n  \n  \nVas A Salir De Aquí Con 5 Superpoderes Nuevos:\n1. Criterio para tomar decisiones con IA\nVas a entender cuándo usarla\, cómo integrarla\, y qué NO delegar jamás.\nNi ChatGPT\, ni Gemini\, ni Copilot toman mejores decisiones que tú… si sabes cómo usarlas. \n2. Procesos claros para automatizar lo repetitivo\nMinutas\, reportes\, presentaciones\, mails…\nTodo lo que antes te comía tiempo\, ahora se resuelve con estrategia (no con más apps). \n3. Prompts profesionales que reflejan tu voz\nNo vas a copiar prompts de internet.\nVas a construir los tuyos.\nCon tu estilo. Tu tono. Tus objetivos. Y tu marca. \n4. Integración real de IA en tus proyectos\nSin necesidad de programar. Sin depender del equipo de sistemas.\nSin perder el control. \n5. Autoridad en tu industria\nPorque el que sabe usar IA con propósito\, toma mejores decisiones\, genera más rápido y se posiciona distinto.
URL:https://luisgyg.com/event/taller-ia-octubre-sesion-1/
LOCATION:Zoom
CATEGORIES:Talleres
ATTACH;FMTTYPE=image/jpeg:https://luisgyg.com/wp-content/uploads/2025/10/taller-ia-aplicada-oct-02.jpeg
ORGANIZER;CN="LuisGyG":MAILTO:contacto@luisgyg.com
END:VEVENT
BEGIN:VEVENT
DTSTART;TZID=America/Mexico_City:20251022T160000
DTEND;TZID=America/Mexico_City:20251022T180000
DTSTAMP:20260419T154618
CREATED:20251020T191745Z
LAST-MODIFIED:20251020T191745Z
UID:217858-1761148800-1761156000@luisgyg.com
SUMMARY:Sesión Prompt Engineering Real: Que La IA Trabaje Para Ti
DESCRIPTION:No se trata de copiar prompts de internet. Se trata de construir los tuyos\, con tu estilo\, tu voz y tus objetivos: \n\nPrompt básico: estructura\, contexto\, reglas\, lógica.\nPrompt avanzado: modelo de 6 elementos (Tarea\, Contexto\, Ejemplo\, Persona\, Formato\, Tono).\nTaller en vivo: aplicamos prompts en contenido\, guiones\, correos\, propuestas\, artículos.\n\n  \n🔧 Aquí no le hablas a la IA. La entrenas para que piense como tú. \n  \n  \nVas A Salir De Aquí Con 5 Superpoderes Nuevos:\n1. Criterio para tomar decisiones con IA\nVas a entender cuándo usarla\, cómo integrarla\, y qué NO delegar jamás.\nNi ChatGPT\, ni Gemini\, ni Copilot toman mejores decisiones que tú… si sabes cómo usarlas. \n2. Procesos claros para automatizar lo repetitivo\nMinutas\, reportes\, presentaciones\, mails…\nTodo lo que antes te comía tiempo\, ahora se resuelve con estrategia (no con más apps). \n3. Prompts profesionales que reflejan tu voz\nNo vas a copiar prompts de internet.\nVas a construir los tuyos.\nCon tu estilo. Tu tono. Tus objetivos. Y tu marca. \n4. Integración real de IA en tus proyectos\nSin necesidad de programar. Sin depender del equipo de sistemas.\nSin perder el control. \n5. Autoridad en tu industria\nPorque el que sabe usar IA con propósito\, toma mejores decisiones\, genera más rápido y se posiciona distinto.
URL:https://luisgyg.com/event/taller-ia-octubre-sesion-2/
LOCATION:Zoom
CATEGORIES:Talleres
ATTACH;FMTTYPE=image/jpeg:https://luisgyg.com/wp-content/uploads/2025/10/taller-ia-aplicada-oct-01.jpeg
ORGANIZER;CN="LuisGyG":MAILTO:contacto@luisgyg.com
END:VEVENT
BEGIN:VEVENT
DTSTART;TZID=America/Mexico_City:20251027T090000
DTEND;TZID=America/Mexico_City:20251027T130000
DTSTAMP:20260419T154618
CREATED:20251020T193547Z
LAST-MODIFIED:20251020T193547Z
UID:217869-1761555600-1761570000@luisgyg.com
SUMMARY:Sesión Tec: Por Qué Tantas Empresas Abandonan la IA a Las Pocas Semanas
DESCRIPTION:No es falta de herramientas. Es falta de criterio. \n\nAnsiedad\, improvisación y pérdida de control: el verdadero enemigo.\nRegulaciones que ya están vigentes (AI Act\, compliance\, reputación).\nQué es alfabetización en IA y cómo convertirla en ventaja profesional real.\n\n  \n🔧 Este bloque es parte del taller de I.A. que daré en el Tec de Monterrey y no promete superpoderes. Te da un mapa para que no te pierdas en el camino. \n  \n  \nVas A Salir De Aquí Con 5 Superpoderes Nuevos:\n1. Criterio para tomar decisiones con IA\nVas a entender cuándo usarla\, cómo integrarla\, y qué NO delegar jamás.\nNi ChatGPT\, ni Gemini\, ni Copilot toman mejores decisiones que tú… si sabes cómo usarlas. \n2. Procesos claros para automatizar lo repetitivo\nMinutas\, reportes\, presentaciones\, mails…\nTodo lo que antes te comía tiempo\, ahora se resuelve con estrategia (no con más apps). \n3. Prompts profesionales que reflejan tu voz\nNo vas a copiar prompts de internet.\nVas a construir los tuyos.\nCon tu estilo. Tu tono. Tus objetivos. Y tu marca. \n4. Integración real de IA en tus proyectos\nSin necesidad de programar. Sin depender del equipo de sistemas.\nSin perder el control. \n5. Autoridad en tu industria\nPorque el que sabe usar IA con propósito\, toma mejores decisiones\, genera más rápido y se posiciona distinto.
URL:https://luisgyg.com/event/sesion-tec-taller-ia-redes-sciales/
LOCATION:Tec de Monterrey\, Mexico
CATEGORIES:Talleres
ATTACH;FMTTYPE=image/jpeg:https://luisgyg.com/wp-content/uploads/2025/10/taller-ia-aplicada-oct-02.jpeg
ORGANIZER;CN="LuisGyG":MAILTO:contacto@luisgyg.com
END:VEVENT
BEGIN:VEVENT
DTSTART;TZID=America/Mexico_City:20251028T090000
DTEND;TZID=America/Mexico_City:20251028T130000
DTSTAMP:20260419T154618
CREATED:20251020T194207Z
LAST-MODIFIED:20251020T194610Z
UID:217872-1761642000-1761656400@luisgyg.com
SUMMARY:Sesión Tec sobre Prompt Engineering: Que La IA Trabaje Para Ti
DESCRIPTION:No se trata de copiar prompts de internet. Se trata de construir los tuyos\, con tu estilo\, tu voz y tus objetivos: \n\nPrompt básico: estructura\, contexto\, reglas\, lógica.\nPrompt avanzado: modelo de 6 elementos (Tarea\, Contexto\, Ejemplo\, Persona\, Formato\, Tono).\nTaller en vivo: aplicamos prompts en contenido\, guiones\, correos\, propuestas\, artículos.\n\n  \n🔧 Aquí no le hablas a la IA. La entrenas para que piense como tú.\nParte del Taller de I.A. que daré en el Tec de Monterrey en la Concentración de Redes Sociales. \n  \n  \nVas A Salir De Aquí Con 5 Superpoderes Nuevos:\n1. Criterio para tomar decisiones con IA\nVas a entender cuándo usarla\, cómo integrarla\, y qué NO delegar jamás.\nNi ChatGPT\, ni Gemini\, ni Copilot toman mejores decisiones que tú… si sabes cómo usarlas. \n2. Procesos claros para automatizar lo repetitivo\nMinutas\, reportes\, presentaciones\, mails…\nTodo lo que antes te comía tiempo\, ahora se resuelve con estrategia (no con más apps). \n3. Prompts profesionales que reflejan tu voz\nNo vas a copiar prompts de internet.\nVas a construir los tuyos.\nCon tu estilo. Tu tono. Tus objetivos. Y tu marca. \n4. Integración real de IA en tus proyectos\nSin necesidad de programar. Sin depender del equipo de sistemas.\nSin perder el control. \n5. Autoridad en tu industria\nPorque el que sabe usar IA con propósito\, toma mejores decisiones\, genera más rápido y se posiciona distinto.
URL:https://luisgyg.com/event/sesion-tec-prompt-engineering-real-que-la-ia-trabaje-para-ti/
LOCATION:Tec de Monterrey\, Mexico
CATEGORIES:Talleres
ATTACH;FMTTYPE=image/jpeg:https://luisgyg.com/wp-content/uploads/2025/10/taller-ia-aplicada-oct-01.jpeg
ORGANIZER;CN="LuisGyG":MAILTO:contacto@luisgyg.com
END:VEVENT
BEGIN:VEVENT
DTSTART;TZID=America/Mexico_City:20251028T160000
DTEND;TZID=America/Mexico_City:20251028T180000
DTSTAMP:20260419T154618
CREATED:20251020T192243Z
LAST-MODIFIED:20251020T192256Z
UID:217861-1761667200-1761674400@luisgyg.com
SUMMARY:Sesión De Usuario A Implementador: Inteligencia Artificial Agéntica
DESCRIPTION:Este bloque es para los que quieren dejar de “jugar con IA” y empezar a automatizar procesos reales\, sin ser técnicos. \n\nQué es un Maker\, un Taker y un Shaper (y por qué importa).\nMinutas\, reportes\, comunicación interna… todo automatizado.\nChatbots con tus datos. Dashboards generados con IA. Microapps corporativas.\n\n  \n🔧 Deja de ser un usuario más. Empieza a construir con lo que ya sabes. \n  \nVas A Salir De Aquí Con 5 Superpoderes Nuevos:\n1. Criterio para tomar decisiones con IA\nVas a entender cuándo usarla\, cómo integrarla\, y qué NO delegar jamás.\nNi ChatGPT\, ni Gemini\, ni Copilot toman mejores decisiones que tú… si sabes cómo usarlas. \n2. Procesos claros para automatizar lo repetitivo\nMinutas\, reportes\, presentaciones\, mails…\nTodo lo que antes te comía tiempo\, ahora se resuelve con estrategia (no con más apps). \n3. Prompts profesionales que reflejan tu voz\nNo vas a copiar prompts de internet.\nVas a construir los tuyos.\nCon tu estilo. Tu tono. Tus objetivos. Y tu marca. \n4. Integración real de IA en tus proyectos\nSin necesidad de programar. Sin depender del equipo de sistemas.\nSin perder el control. \n5. Autoridad en tu industria\nPorque el que sabe usar IA con propósito\, toma mejores decisiones\, genera más rápido y se posiciona distinto.
URL:https://luisgyg.com/event/sesion-de-usuario-a-implementador-inteligencia-artificial-agentica/
LOCATION:Zoom
CATEGORIES:Talleres
ATTACH;FMTTYPE=image/jpeg:https://luisgyg.com/wp-content/uploads/2025/10/taller-ia-aplicada-oct-03.jpeg
ORGANIZER;CN="LuisGyG":MAILTO:contacto@luisgyg.com
END:VEVENT
BEGIN:VEVENT
DTSTART;TZID=America/Mexico_City:20251029T090000
DTEND;TZID=America/Mexico_City:20251029T130000
DTSTAMP:20260419T154618
CREATED:20251020T194538Z
LAST-MODIFIED:20251020T194538Z
UID:217874-1761728400-1761742800@luisgyg.com
SUMMARY:Sesión Tec De Usuario A Implementador: Inteligencia Artificial Agéntica
DESCRIPTION:Este bloque es para los que quieren dejar de “jugar con IA” y empezar a automatizar procesos reales\, sin ser técnicos. \n\nQué es un Maker\, un Taker y un Shaper (y por qué importa).\nMinutas\, reportes\, comunicación interna… todo automatizado.\nChatbots con tus datos. Dashboards generados con IA. Microapps corporativas.\n\n  \n🔧 Deja de ser un usuario más. Empieza a construir con lo que ya sabes. \nEsta sesión forma parte del Taller que imparto para el Tec de Monterrey en la concentración de Redes Sociales.  \n  \nVas A Salir De Aquí Con 5 Superpoderes Nuevos:\n1. Criterio para tomar decisiones con IA\nVas a entender cuándo usarla\, cómo integrarla\, y qué NO delegar jamás.\nNi ChatGPT\, ni Gemini\, ni Copilot toman mejores decisiones que tú… si sabes cómo usarlas. \n2. Procesos claros para automatizar lo repetitivo\nMinutas\, reportes\, presentaciones\, mails…\nTodo lo que antes te comía tiempo\, ahora se resuelve con estrategia (no con más apps). \n3. Prompts profesionales que reflejan tu voz\nNo vas a copiar prompts de internet.\nVas a construir los tuyos.\nCon tu estilo. Tu tono. Tus objetivos. Y tu marca. \n4. Integración real de IA en tus proyectos\nSin necesidad de programar. Sin depender del equipo de sistemas.\nSin perder el control. \n5. Autoridad en tu industria\nPorque el que sabe usar IA con propósito\, toma mejores decisiones\, genera más rápido y se posiciona distinto.
URL:https://luisgyg.com/event/sesion-tec-de-usuario-a-implementador-inteligencia-artificial/
LOCATION:Tec de Monterrey\, Mexico
CATEGORIES:Talleres
ATTACH;FMTTYPE=image/jpeg:https://luisgyg.com/wp-content/uploads/2025/10/taller-ia-aplicada-oct-03.jpeg
ORGANIZER;CN="LuisGyG":MAILTO:contacto@luisgyg.com
END:VEVENT
BEGIN:VEVENT
DTSTART;TZID=America/Mexico_City:20251029T160000
DTEND;TZID=America/Mexico_City:20251029T180000
DTSTAMP:20260419T154618
CREATED:20251020T193006Z
LAST-MODIFIED:20251020T193006Z
UID:217867-1761753600-1761760800@luisgyg.com
SUMMARY:Sesión de Creatividad Con IA Sin Perder Autenticidad
DESCRIPTION:¿Tu contenido ya no conecta?\n¿Tu equipo creativo teme que la IA lo reemplace? \n\nPersonalización creativa real (más allá del meme).\nÉtica y reputación en contenidos generados por IA.\nHerramientas para imagen\, video\, audio con tu branding.\n\n  \n🔧 Aquí no se pierde la esencia. Se potencia. \n  \n  \nVas A Salir De Aquí Con 5 Superpoderes Nuevos:\n1. Criterio para tomar decisiones con IA\nVas a entender cuándo usarla\, cómo integrarla\, y qué NO delegar jamás.\nNi ChatGPT\, ni Gemini\, ni Copilot toman mejores decisiones que tú… si sabes cómo usarlas. \n2. Procesos claros para automatizar lo repetitivo\nMinutas\, reportes\, presentaciones\, mails…\nTodo lo que antes te comía tiempo\, ahora se resuelve con estrategia (no con más apps). \n3. Prompts profesionales que reflejan tu voz\nNo vas a copiar prompts de internet.\nVas a construir los tuyos.\nCon tu estilo. Tu tono. Tus objetivos. Y tu marca. \n4. Integración real de IA en tus proyectos\nSin necesidad de programar. Sin depender del equipo de sistemas.\nSin perder el control. \n5. Autoridad en tu industria\nPorque el que sabe usar IA con propósito\, toma mejores decisiones\, genera más rápido y se posiciona distinto.
URL:https://luisgyg.com/event/taller-ia-octubre-sesion-4/
LOCATION:Zoom
CATEGORIES:Talleres
ATTACH;FMTTYPE=image/jpeg:https://luisgyg.com/wp-content/uploads/2025/10/taller-ia-aplicada-oct-04.jpeg
ORGANIZER;CN="LuisGyG":MAILTO:contacto@luisgyg.com
END:VEVENT
BEGIN:VEVENT
DTSTART;TZID=America/Mexico_City:20251030T090000
DTEND;TZID=America/Mexico_City:20251030T130000
DTSTAMP:20260419T154618
CREATED:20251020T194820Z
LAST-MODIFIED:20251020T194820Z
UID:217876-1761814800-1761829200@luisgyg.com
SUMMARY:Sesión Tec de Creatividad Con IA Sin Perder Autenticidad
DESCRIPTION:¿Tu contenido ya no conecta?\n¿Tu equipo creativo teme que la IA lo reemplace? \n\nPersonalización creativa real (más allá del meme).\nÉtica y reputación en contenidos generados por IA.\nHerramientas para imagen\, video\, audio con tu branding.\n\n  \n🔧 Aquí no se pierde la esencia. Se potencia. \nParte del Taller de I.A. que daré en el Tec de Monterrey en la Concentración de Redes Sociales. \n  \nVas A Salir De Aquí Con 5 Superpoderes Nuevos:\n1. Criterio para tomar decisiones con IA\nVas a entender cuándo usarla\, cómo integrarla\, y qué NO delegar jamás.\nNi ChatGPT\, ni Gemini\, ni Copilot toman mejores decisiones que tú… si sabes cómo usarlas. \n2. Procesos claros para automatizar lo repetitivo\nMinutas\, reportes\, presentaciones\, mails…\nTodo lo que antes te comía tiempo\, ahora se resuelve con estrategia (no con más apps). \n3. Prompts profesionales que reflejan tu voz\nNo vas a copiar prompts de internet.\nVas a construir los tuyos.\nCon tu estilo. Tu tono. Tus objetivos. Y tu marca. \n4. Integración real de IA en tus proyectos\nSin necesidad de programar. Sin depender del equipo de sistemas.\nSin perder el control. \n5. Autoridad en tu industria\nPorque el que sabe usar IA con propósito\, toma mejores decisiones\, genera más rápido y se posiciona distinto.
URL:https://luisgyg.com/event/sesion-tec-de-creatividad-con-ia-sin-perder-autenticidad/
LOCATION:Tec de Monterrey\, Mexico
CATEGORIES:Talleres
ATTACH;FMTTYPE=image/jpeg:https://luisgyg.com/wp-content/uploads/2025/10/taller-ia-aplicada-oct-04.jpeg
ORGANIZER;CN="LuisGyG":MAILTO:contacto@luisgyg.com
END:VEVENT
END:VCALENDAR