BEGIN:VCALENDAR
VERSION:2.0
PRODID:-//LuisGyG - ECPv6.15.17.1//NONSGML v1.0//EN
CALSCALE:GREGORIAN
METHOD:PUBLISH
X-ORIGINAL-URL:https://luisgyg.com
X-WR-CALDESC:Eventos para LuisGyG
REFRESH-INTERVAL;VALUE=DURATION:PT1H
X-Robots-Tag:noindex
X-PUBLISHED-TTL:PT1H
BEGIN:VTIMEZONE
TZID:America/Mexico_City
BEGIN:STANDARD
TZOFFSETFROM:-0600
TZOFFSETTO:-0600
TZNAME:CST
DTSTART:20240101T000000
END:STANDARD
END:VTIMEZONE
BEGIN:VEVENT
DTSTART;TZID=America/Mexico_City:20250502T090000
DTEND;TZID=America/Mexico_City:20250502T120000
DTSTAMP:20260420T001420
CREATED:20250403T193148Z
LAST-MODIFIED:20250403T193148Z
UID:217199-1746176400-1746187200@luisgyg.com
SUMMARY:¿Por qué urge tener charlas sobre IA y ética con visión crítica?
DESCRIPTION:¿Y si el futuro ya llegó y nadie nos avisó? \nLa inteligencia artificial no necesita pasaporte.Ya cruzó todas las fronteras.Ahora está aquí\, sentada en nuestra mesa\, pidiendo café y decidiendo si somos “aptos” para el crédito\, para el empleo… o para el olvido. \nEsto no es ciencia ficción.Es la agenda diaria de los CIOs y líderes tecnológicos.Es la conversación que urge tener. \nPor eso acepté con gusto la invitación a moderar un panel en 4CIO México 2025\, un evento privado y exclusivo donde se hablará de lo que viene\, sin filtros ni adornos. \n¿El tema central?Una provocación con juego de palabras: UtopIA. Un mundo nuevo admirable. \nSí\, con IA.Y con todo lo que eso implica. \n\n\n¿Qué tienen que ver las charlas sobre IA y ética con “Un mundo feliz”?\nBastante más de lo que parece. \nLa inspiración del evento viene directo de Aldous Huxley y su novela Un Mundo Feliz\, donde los humanos están tan anestesiados por la tecnología que ni sienten.Tampoco deciden.Mucho menos cuestionan. \n¿Te suena? \nLa IA de hoy no se toma en pastillas\, pero sí en dashboards.No se inyecta\, aunque se entrena.Y mientras el mundo celebra lo “eficiente” y lo “automático”\, la pregunta incómoda sigue sin resolverse:¿Dónde quedó la ética? \nEse es el punto de partida de mi presentación.Diez minutos donde plantearé las verdaderas preguntas antes de abrir paso a tres ejecutivos invitados.Un panel con visión\, sustancia y sin miedo al desacuerdo. \nY sí: estas son las charlas sobre IA y ética que necesitamos más seguido. \n\n\n¿Qué pasa cuando dejamos la ética fuera del código?\nSpoiler: nada bueno. \nLa velocidad del desarrollo tecnológico es brutal.Tan brutal\, que muchos están saltándose pasos esenciales.Y uno de esos pasos es la ética. \nNo se puede agregar al final como si fuera un plugin.Tiene que ir en el código\, desde el diseño. \nLo he dicho antes y lo volveré a decir en el escenario: \n\n“Si tu algoritmo discrimina\, no es un fallo técnico. Es una responsabilidad ética”. \n\nNo se trata de frenar la innovación\, sino de cuestionarla mejor.Con equipos diversos\, con normativas escritas por humanos reales\, no solo tecnócratas de gabinete. \nDe lo contrario\, la utopía que soñamos se convertirá en una distopía con buena interfaz. \n\n\n¿Y el lado humano de todo esto\, dónde queda?\nCada vez que alguien me dice: “Luis\, la IA lo hace mejor”\, mi respuesta es otra pregunta: \n¿Mejor en qué? \nDetectar patrones\, diagnosticar más rápido\, personalizar tareas. Todo eso está bien.Pero hay cosas que una máquina jamás podrá replicar:Una mirada que contiene.Una voz que alivia.Un silencio compartido en el momento justo. \nEl Dr. Pablo Vidal\, por ejemplo\, usa IA para ser más preciso\, pero no por eso deja de mirar a los ojos.Los buenos médicos lo saben: la empatía sigue siendo insustituible. \nLo mismo pasa en educación.Puedes tener un sistema que adapte contenidos a cada persona\, pero ningún algoritmo reemplaza a ese mentor que te dice “yo creo en ti”. \nPor eso repito lo que he dicho en más de una conferencia: «Human in the loop»\, siempre. \n\n\n¿Va a desaparecer el trabajo?\nAlgunas tareas\, sí.Eso es inevitable.Pero el verdadero problema no es la tecnología\, es que seguimos entrenando personas para un mundo que ya no existe. \nAquí es donde las empresas tienen que tomar el liderazgo.No basta con automatizar procesos.Hay que reentrenar\, capacitar\, acompañar. \nNo lo digo como eslogan\, lo digo como diagnóstico: \n\n“Si no inviertes en tu talento humano\, lo que estás haciendo no es transformación digital. Es precarización 4.0”. \n\nY eso se paga caro.En clima laboral\, en reputación\, en resultados a largo plazo. \n\n\n¿Tus datos están protegidos o ya los vendiste sin saber?\nVivimos en una época donde los datos valen más que el petróleo.Pero los entregamos a cambio de tests de personalidad ridículos o apps de moda. \nMientras tanto\, los ataques digitales aumentan y la regulación…En fin.Muchos legisladores siguen sin entender lo que es un algoritmo. \nNo basta con autorregularse.Necesitamos co-regulación con todos los actores en la mesa:Gobierno\, ciudadanía\, sector privado. \nLas reglas tienen que ser claras\, actualizadas y aplicables.Y tienen que surgir desde el conocimiento\, no desde el miedo. \nTodo esto lo vamos a plantear en el panel\, con ejemplos concretos\, sin pánico ni propaganda. \nPorque las charlas sobre IA y ética también tienen que hablar de privacidad\, de derechos\, de soberanía digital. \n\n\n¿La IA lo va a resolver todo?\nNo. \nDe hecho\, si no la entendemos bien\, puede empeorar muchas cosas. \nEl hype está por todos lados.La promesa infinita.El discurso de “esto va a cambiarlo todo”. \nPero la realidad avanza más lento.Y si no se gestiona esa brecha entre expectativas y resultados\, vamos a terminar con una ciudadanía frustrada y desconfiada. \nPor eso insisto tanto en educación digital\, pensamiento crítico y narrativa honesta. \nHay que aprender a hacer las preguntas correctas.Y dejar de esperar milagros tecnológicos que no van a llegar. \n\n\nEste 2 de mayo por la mañana estaré en 4CIO México 2025\, conduciendo un panel con líderes que están enfrentando estos dilemas en tiempo real. \nUna hora de conversación sin clichés.Sin respuestas fáciles.Y con preguntas que vale la pena hacerse. \nSi tú también organizas eventos donde hace falta una voz crítica\, pero constructiva…Una charla que conecte lo técnico con lo humano…Un conferencista que no te lea diapositivas\, sino que provoque reflexión… \nPodría ser tu próximo conferencista. \nTrabajo con ejecutivos\, consultores y líderes de transformación para traducir tendencias tecnológicas en decisiones estratégicas.Y para traer a escena lo que otros prefieren mantener en la trastienda. \n¿Hablamos? \n\nY si este tipo de ideas te interesa\, te cuento que mando un mail diario a las 3:30 PM.Se lee en dos minutos.Trato temas como inteligencia artificial\, productividad\, tendencias y a veces… hasta vendo algo.
URL:https://luisgyg.com/event/charlas-sobre-ia-y-etica/
LOCATION:Playa del Carmen\, Mexico
CATEGORIES:Conferencias
ATTACH;FMTTYPE=image/jpeg:https://luisgyg.com/wp-content/uploads/2025/04/Charlas-sobre-IA-y-etica.jpg
END:VEVENT
BEGIN:VEVENT
DTSTART;TZID=America/Mexico_City:20250505T160000
DTEND;TZID=America/Mexico_City:20250505T180000
DTSTAMP:20260420T001420
CREATED:20250403T182813Z
LAST-MODIFIED:20250403T182813Z
UID:217197-1746460800-1746468000@luisgyg.com
SUMMARY:Taller de IA para equipos de diseño el 5 de mayo.
DESCRIPTION:Cuando ves lo que puedes hacer con IA\, ya no hay marcha atrás. \nTe pasa lo que a muchas personas después de tomar un taller conmigo: \n\nTe das cuenta de que no se trata de saber usar herramientas. \n\nSe trata de saber cómo integrarlas a lo que ya haces todos los días. \nY justo eso es lo que vamos a trabajar a partir del 5 de mayo con DINAMO\, una agencia creativa que confió en mí para acompañar a su equipo. \nCuatro sesiones. \nUn solo objetivo:Hacer que la IA funcione en sus procesos\, sin que pierdan su estilo. \n\n\n¿Por qué vale la pena un taller cerrado?\nPorque es completamente distinto hablar en general……a hablarte con tus propios archivos. \nNo es lo mismo enseñar qué hace ChatGPT\,a mostrarte cómo convertir tus presentaciones\, tus ideas o tus entregas en prompts automatizados que sí te sirven. \nUn taller cerrado permite eso.Entrar al contexto real de un equipo.Saber cómo trabajan\, qué entregan\, cómo colaboran… y a partir de ahí\, construir. \nNo hablamos de teoría.Hablamos de velocidad real. \nDe ahorro de tiempo en cosas que antes te comían las horas.De ideas que salen más rápido.De entregables que se ven más pro\, aunque los haya montado una IA (dirigida por ti\, claro). \nPor eso\, este 5 de mayo arrancamos con una agencia que decidió capacitar a su equipo de forma estratégica. \nNo en el sentido clásico.Sino con visión de futuro. \nCon un taller 100% enfocado en IA para equipos de diseño. \n\n\n¿Qué incluye un taller como este?\nPrimero: una sesión previa.Antes de enseñar cualquier cosa\, me siento a entender cómo trabaja tu equipo. \n¿Qué hacen? ¿Cómo entregan? ¿Dónde sienten que se les va el tiempo? ¿Qué les gustaría automatizar? \nA partir de eso\, personalizo todo. \nY luego vienen las 4 sesiones.Dos horas por sesión\, vía Zoom.Dinámicas\, prácticas\, y sí\, adaptadas al nivel y rol de cada persona. \nNo importa si eres diseñadora\, copy\, programador o líder de proyecto.Todos salen con ideas claras de cómo usar IA en lo suyo. \nY siempre bajo el mismo principio: \n\nNo se trata de sustituirte.Se trata de potenciarte. \n\nPorque cuando entiendes cómo aprovechar la IA para equipos de diseño\, lo que antes te tomaba 3 días\, ahora sale en 3 horas. \nY eso cambia el juego. \n\n\n¿Qué tipo de cosas trabajamos?\nTe dejo un vistazo general\, sin spoilers: \n\n\nCómo escribir prompts efectivos según tu perfil. \n\n\nQué herramientas usar según tu flujo de trabajo (sí\, más allá de ChatGPT). \n\n\nCómo generar presentaciones\, visuales\, copies o videos con IA… sin que parezcan todos iguales. \n\n\nCómo hacer apps\, landings o materiales interactivos sin saber programar. \n\n\nY cómo asegurarte de que tu sello creativo no se pierda\, aunque delegues el 60% del trabajo a una IA. \n\n\nTodo esto lo veremos en cuatro sesiones\, a partir del 5 de mayo.Pero también podría ser el inicio de algo para tu equipo. \nPorque este taller no es un evento aislado.Es una forma de decir: \n\n“Nos tomamos en serio la evolución de nuestro trabajo creativo.” \n\n\n¿Y si quiero algo así para mi empresa?\nEscríbeme.Diseño estos talleres para agencias\, equipos de contenido\, estudios de branding\, áreas de producto\, marketing o comunicación. \nLo adapto a tus flujos. A tu equipo.A lo que tú haces hoy\, pero más rápido\, más claro y con más cabeza. \nNo es una clase de herramientas.Es una capacitación para que la IA para equipos de diseño deje de ser algo que “algún día” explorarán……y se convierta en algo que ya están usando todos los días. \nComo debe ser. \nIA para equipos de diseño no es una tendencia.Es una necesidad. \nY mientras unes deciden “esperar a ver qué pasa”…Otros ya están entrenando a su equipo para ser los que deciden lo que pasa. \nNos vemos el 5 de mayo.O antes\, si tú también quieres llevarle ventaja al futuro. \n\nSi te interesa una versión cerrada de este taller para tu empresa\, contáctame por acá: luisgyg.com \nY si te apasionan estos temas de productividad\, IA\, contenido y futuro del trabajo… \nMando un mail diario a las 3:30PM. Lo lees en dos minutos.Doy consejos\, reflexiones y\, sí\, trato de vender algo cada día.
URL:https://luisgyg.com/event/ia-para-equipos-de-diseno-dinamo/
LOCATION:Zoom
CATEGORIES:Talleres
ATTACH;FMTTYPE=image/jpeg:https://luisgyg.com/wp-content/uploads/2025/04/IA-para-equipos-de-diseno.jpg
ORGANIZER;CN="LuisGyG":MAILTO:contacto@luisgyg.com
END:VEVENT
BEGIN:VEVENT
DTSTART;TZID=America/Mexico_City:20250508T130000
DTEND;TZID=America/Mexico_City:20250508T150000
DTSTAMP:20260420T001420
CREATED:20250417T162748Z
LAST-MODIFIED:20250417T162748Z
UID:217315-1746709200-1746716400@luisgyg.com
SUMMARY:Panel: El impacto de la IA en la comunicación
DESCRIPTION:Ayer subí un retrato mío estilo chibi a redes. \nNo pasaron ni cinco minutos cuando llegaron los mensajes:“¿Con qué app lo hiciste?”\,“¿Eso lo hiciste con MidJourney o cuál?”\,“Bro\, enséñame a hacer eso pa’ mi perfil”. \nAsí estamos. \nLa IA se está colando\, sin hacer mucho ruido\, en todo lo que tiene que ver con marketing de contenidos. Hoy no solo sirve para generar textos o imágenes. Se está usando para ganar visibilidad\, instalar marcas y\, sobre todo\, para hacer que hablen de ti. Aunque sea en formato caricatura. \nY justo por eso acepté la invitación al panel “El impacto de la IA en la comunicación” en el marco de uno de los eventos de inteligencia artificial en México más relevantes del año: Never Ending Evolution – The AI Pioneers Festival. \n¿Qué tiene que ver un chibi con un panel de IA?\nTodo. \nPorque mientras algunas personas siguen preguntando si esto es “una moda pasajera”\, otras ya están usando herramientas de IA para crear campañas\, planear estrategias de comunicación\, automatizar relaciones públicas\, e incluso —como en mi caso— generar interacción orgánica con una simple imagen. \nY ese tipo de usos tienen implicaciones que van más allá de lo técnico. \nNos invitan a pensar cómo estas herramientas reconfiguran la confianza\, la autoridad\, la representación digital y la conversación pública. \nEn este panel\, que estaré compartiendo con otras voces expertas del mundo de la tecnología y los medios\, vamos a hablar justamente de eso: \nCómo la Inteligencia Artificial está transformando la forma en la que nos comunicamos\, informamos… y también manipulamos. \n¿Por qué asistir a estos eventos de inteligencia artificial en México?\nPorque no basta con saber “qué app está de moda”. \nNecesitamos entender cómo operan estos sistemas\, cómo están cambiando la manera en la que se construye la opinión pública\, cómo afectan la reputación digital y\, sí\, cómo pueden ayudar —o perjudicar— a marcas personales\, medios y empresas. \nY para eso sirven estos espacios. \nEste 8 de mayo a la 1:00 p. m.\, en el Campo Marte\, se realizará el panel que moderará Loreley Maldonado\, directora de Eje Comunicación\, agencia de Relaciones Públicas y aliado estratégico del festival. \nAquí hablaremos de retos\, oportunidades y complejidades al llevar la comunicación a nuevos escenarios impulsados por IA. Desde herramientas como ChatGPT\, hasta el uso de deepfakes y asistentes generativos que ya están tocando la puerta de los medios. \nAdemás\, el festival en sí mismo es uno de los eventos de inteligencia artificial en México más importantes del año\, organizado por Needed y GTW\, y dirigido a C-levels y tomadores de decisión en tecnología\, innovación y estrategia. \nAsí que si quieres salirte del guion de “cómo hacer prompts” y empezar a entender los verdaderos cambios estructurales que vienen con la IA\, ahí nos vemos. \n🟡 Más sobre Eje Comunicación:https://ejecom.mx \nY si quieres recibir reflexiones como esta\, pero sin tanto formalismo\, todos los días a las 3:30 p.m. mando un mail que se lee en 2 minutos. Hablo de productividad\, inteligencia artificial y uno que otro enredo cotidiano. Te puedes suscribir aquí:
URL:https://luisgyg.com/event/eventos-de-inteligencia-artificial-en-mexico/
LOCATION:Campo Marte\, Domicilio conocido S/N\, Mexico\, CDMX\, 11580\, Mexico
ATTACH;FMTTYPE=image/jpeg:https://luisgyg.com/wp-content/uploads/2025/04/eventos-tecnologia-en-mexico.jpg
END:VEVENT
END:VCALENDAR