BEGIN:VCALENDAR
VERSION:2.0
PRODID:-//LuisGyG - ECPv6.15.17.1//NONSGML v1.0//EN
CALSCALE:GREGORIAN
METHOD:PUBLISH
X-ORIGINAL-URL:https://luisgyg.com
X-WR-CALDESC:Eventos para LuisGyG
REFRESH-INTERVAL;VALUE=DURATION:PT1H
X-Robots-Tag:noindex
X-PUBLISHED-TTL:PT1H
BEGIN:VTIMEZONE
TZID:America/Mexico_City
BEGIN:STANDARD
TZOFFSETFROM:-0600
TZOFFSETTO:-0600
TZNAME:CST
DTSTART:20230101T000000
END:STANDARD
END:VTIMEZONE
BEGIN:VEVENT
DTSTART;TZID=America/Mexico_City:20241114T090000
DTEND;TZID=America/Mexico_City:20241114T140000
DTSTAMP:20260420T102046
CREATED:20241029T171518Z
LAST-MODIFIED:20241029T171518Z
UID:216001-1731574800-1731592800@luisgyg.com
SUMMARY:Descubre cómo la IA y los datos pueden transformar tu empresa hoy mismo
DESCRIPTION:Este evento está diseñado para mostrarte cómo la inteligencia artificial y el análisis de datos pueden transformar la manera en que tomas decisiones en tu empresa\, y tendré la oportunidad de dar una conferencia donde profundizaré en cómo utilizar la IA como ventaja competitiva. A lo largo del día\, aprenderás a utilizar herramientas tecnológicas avanzadas que te ayudarán a optimizar procesos\, reducir riesgos y descubrir nuevas oportunidades de negocio. La tecnología no es solo el futuro\, es lo que está marcando la diferencia ahora mismo. \nUno de los puntos clave del evento será entender cómo empresas de diversos sectores están usando estas tecnologías para ganar ventaja competitiva. A través de casos prácticos y ponencias magistrales\, te mostraremos ejemplos reales de empresas que han logrado mejorar su eficiencia y tomar mejores decisiones gracias a la inteligencia artificial y el uso de datos. \nAdemás de obtener conocimientos de primera mano\, este evento ofrece la oportunidad de participar en dinámicas donde podrás aplicar los conceptos a la realidad de tu empresa. Incluso tendrás la posibilidad de aplicar para una prueba de concepto que te permitirá ver de manera concreta cómo estas soluciones tecnológicas pueden implementarse en tu negocio. \nMi conferencia estará enfocada en cómo las empresas pueden usar la inteligencia artificial para liderar en sus sectores. Te llevarás un plan de acción personalizado que podrás implementar de inmediato. Además\, la tecnología de AWS y el apoyo de SIPSER Cloud estarán presentes para guiarte en cada paso del proceso. \nNo dejes pasar esta oportunidad de acelerar el crecimiento de tu empresa. Si estás listo para aprovechar las herramientas del futuro y transformar la manera en que operas\, este evento es para ti.
URL:https://luisgyg.com/event/sipser-evento-ia/
CATEGORIES:Conferencias
ATTACH;FMTTYPE=image/jpeg:https://luisgyg.com/wp-content/uploads/2024/10/evento-sipser-ia-leon.jpg
END:VEVENT
BEGIN:VEVENT
DTSTART;TZID=America/Mexico_City:20241118T100000
DTEND;TZID=America/Mexico_City:20241118T120000
DTSTAMP:20260420T102046
CREATED:20241029T232928Z
LAST-MODIFIED:20241104T184429Z
UID:216021-1731924000-1731931200@luisgyg.com
SUMMARY:Taller: I.A. para Agencias de Eventos - Sesión 1
DESCRIPTION:Este mes\, la agencia Mint me ha confiado la capacitación de su equipo en inteligencia artificial. Será un taller cerrado\, hecho a la medida de sus necesidades\, enfocado en resolver problemas específicos como la optimización de tiempo y la eficiencia en procesos de trabajo. \nLa realidad es que muchas agencias pierden horas valiosas en proyectos que no siempre resultan en nuevos clientes. En este taller\, estamos trabajando con herramientas avanzadas de inteligencia artificial que ayudarán a este tipo de agencias a acelerar esos procesos sin comprometer la calidad. Nada de tutoriales básicos\, aquí vamos directo a soluciones que realmente hacen la diferencia. \nDesde la generación de imágenes y presentaciones hasta la automatización de minutas\, todo estará optimizado. Con plataformas como Copilot\, Perplexity y Claude\, el equipo de Mint aprenderá a mejorar su flujo de trabajo sin perder tiempo en pruebas y errores. La idea es que cada acción sea más rápida y efectiva\, con menos esfuerzo manual. \nEste taller está diseñado para que el equipo de Mint no solo se adapte a las nuevas tecnologías\, sino que las domine. El objetivo es que lo que hoy les toma días\, mañana les tome solo unas horas\, y siempre manteniendo la calidad que se necesita para ganar más licitaciones. \nSi tú o tu empresa necesitan una capacitación personalizada como la de Mint\, escríbeme y vemos cómo los puedo ayudar. La IA generativa no es el futuro\, es el presente\, y si aún no la estás usando para optimizar tus procesos\, ya es hora de hacerlo.
URL:https://luisgyg.com/event/taller-todavia-pierdes-horas-en-propuestas-la-ia-ya-esta-resolviendo-eso/
LOCATION:Privado
CATEGORIES:Talleres
ATTACH;FMTTYPE=image/jpeg:https://luisgyg.com/wp-content/uploads/2024/10/TALLER-AGENCIA-EVENTOS.jpg
ORGANIZER;CN="LuisGyG":MAILTO:contacto@luisgyg.com
END:VEVENT
BEGIN:VEVENT
DTSTART;TZID=America/Mexico_City:20241121T100000
DTEND;TZID=America/Mexico_City:20241121T120000
DTSTAMP:20260420T102046
CREATED:20241029T233037Z
LAST-MODIFIED:20241104T184400Z
UID:216026-1732183200-1732190400@luisgyg.com
SUMMARY:Taller: I.A. para Agencias de Eventos - Sesión 2
DESCRIPTION:Este mes\, la agencia Mint me ha confiado la capacitación de su equipo en inteligencia artificial. Será un taller cerrado\, hecho a la medida de sus necesidades\, enfocado en resolver problemas específicos como la optimización de tiempo y la eficiencia en procesos de trabajo. \nLa realidad es que muchas agencias pierden horas valiosas en proyectos que no siempre resultan en nuevos clientes. En este taller\, estamos trabajando con herramientas avanzadas de inteligencia artificial que ayudarán a este tipo de agencias a acelerar esos procesos sin comprometer la calidad. Nada de tutoriales básicos\, aquí vamos directo a soluciones que realmente hacen la diferencia. \nDesde la generación de imágenes y presentaciones hasta la automatización de minutas\, todo estará optimizado. Con plataformas como Copilot\, Perplexity y Claude\, el equipo de Mint aprenderá a mejorar su flujo de trabajo sin perder tiempo en pruebas y errores. La idea es que cada acción sea más rápida y efectiva\, con menos esfuerzo manual. \nEste taller está diseñado para que el equipo de Mint no solo se adapte a las nuevas tecnologías\, sino que las domine. El objetivo es que lo que hoy les toma días\, mañana les tome solo unas horas\, y siempre manteniendo la calidad que se necesita para ganar más licitaciones. \nSi tú o tu empresa necesitan una capacitación personalizada como la de Mint\, escríbeme y vemos cómo los puedo ayudar. La IA generativa no es el futuro\, es el presente\, y si aún no la estás usando para optimizar tus procesos\, ya es hora de hacerlo.
URL:https://luisgyg.com/event/taller-todavia-pierdes-horas-en-propuestas-la-ia-ya-esta-resolviendo-eso-2/
LOCATION:Privado
CATEGORIES:Talleres
ATTACH;FMTTYPE=image/jpeg:https://luisgyg.com/wp-content/uploads/2024/10/TALLER-AGENCIA-EVENTOS.jpg
ORGANIZER;CN="LuisGyG":MAILTO:contacto@luisgyg.com
END:VEVENT
BEGIN:VEVENT
DTSTART;TZID=America/Mexico_City:20241125T100000
DTEND;TZID=America/Mexico_City:20241125T120000
DTSTAMP:20260420T102046
CREATED:20241029T233136Z
LAST-MODIFIED:20241104T184331Z
UID:216030-1732528800-1732536000@luisgyg.com
SUMMARY:Taller: I.A. para Agencias de Eventos - Sesión 3
DESCRIPTION:Este mes\, la agencia Mint me ha confiado la capacitación de su equipo en inteligencia artificial. Será un taller cerrado\, hecho a la medida de sus necesidades\, enfocado en resolver problemas específicos como la optimización de tiempo y la eficiencia en procesos de trabajo. \nLa realidad es que muchas agencias pierden horas valiosas en proyectos que no siempre resultan en nuevos clientes. En este taller\, estamos trabajando con herramientas avanzadas de inteligencia artificial que ayudarán a este tipo de agencias a acelerar esos procesos sin comprometer la calidad. Nada de tutoriales básicos\, aquí vamos directo a soluciones que realmente hacen la diferencia. \nDesde la generación de imágenes y presentaciones hasta la automatización de minutas\, todo estará optimizado. Con plataformas como Copilot\, Perplexity y Claude\, el equipo de Mint aprenderá a mejorar su flujo de trabajo sin perder tiempo en pruebas y errores. La idea es que cada acción sea más rápida y efectiva\, con menos esfuerzo manual. \nEste taller está diseñado para que el equipo de Mint no solo se adapte a las nuevas tecnologías\, sino que las domine. El objetivo es que lo que hoy les toma días\, mañana les tome solo unas horas\, y siempre manteniendo la calidad que se necesita para ganar más licitaciones. \nSi tú o tu empresa necesitan una capacitación personalizada como la de Mint\, escríbeme y vemos cómo los puedo ayudar. La IA generativa no es el futuro\, es el presente\, y si aún no la estás usando para optimizar tus procesos\, ya es hora de hacerlo.
URL:https://luisgyg.com/event/taller-todavia-pierdes-horas-en-propuestas-la-ia-ya-esta-resolviendo-eso-2-2/
LOCATION:Privado
CATEGORIES:Talleres
ATTACH;FMTTYPE=image/jpeg:https://luisgyg.com/wp-content/uploads/2024/10/TALLER-AGENCIA-EVENTOS.jpg
ORGANIZER;CN="LuisGyG":MAILTO:contacto@luisgyg.com
END:VEVENT
BEGIN:VEVENT
DTSTART;TZID=America/Mexico_City:20241126T160000
DTEND;TZID=America/Mexico_City:20241126T180000
DTSTAMP:20260420T102046
CREATED:20241029T170334Z
LAST-MODIFIED:20241029T230318Z
UID:215997-1732636800-1732644000@luisgyg.com
SUMMARY:Si no aprendes IA ahora\, podrías quedar irrelevante en el trabajo - Sesión 1
DESCRIPTION:El taller “IA para la Comunicación y Relaciones Públicas”\, que estaré impartiendo junto con la gente de PRORP\, está diseñado específicamente para que profesionales de la comunicación puedan integrar la inteligencia artificial en su trabajo de manera práctica y efectiva. Sin embargo\, no es exclusivo para quienes trabajan en estas áreas; cualquier persona interesada en mejorar su productividad y habilidades con IA puede beneficiarse. Si buscas estar a la vanguardia y aprovechar las tecnologías emergentes para destacar en tu campo\, este taller te ofrece justo lo que necesitas. \nHoy más que nunca\, la automatización y la inteligencia artificial están transformando las industrias. Este taller te ayudará a no quedarte atrás\, proporcionándote herramientas prácticas para asegurar que no solo sobrevivas en este entorno\, sino que prosperes. Aprenderás a utilizar plataformas como Copilot y Perplexity\, a generar contenido optimizado para SEO y a manejar de manera eficiente presentaciones\, imágenes y videos\, todo con la ayuda de la IA. Este conocimiento te permitirá adaptarte rápidamente a los cambios tecnológicos. \nEl taller también aborda tres problemas clave que muchos profesionales enfrentan hoy: la inseguridad laboral\, la falta de conocimientos en IA y la dificultad para adaptarse a nuevas tecnologías. Aquí no necesitas ser un experto en tecnología\, ya que te enseñaremos a dominar las herramientas de IA de manera sencilla y directa. Las habilidades que obtendrás te permitirán mejorar tu posición laboral y enfrentar los retos actuales con confianza. \nEstá dirigido a cualquier profesional\, emprendedor o ejecutivo que quiera mantenerse competitivo en el mercado actual. Aunque el enfoque es ideal para las áreas de comunicación y relaciones públicas\, no necesitas estar en esos departamentos para aprovechar todo lo que este taller ofrece. Si buscas integrar la IA en tus procesos y mejorar la eficiencia de tu trabajo\, este curso es para ti. \nAl finalizar el taller\, tendrás en tus manos una serie de herramientas y conocimientos que te permitirán optimizar tus procesos\, generar contenido de calidad y adaptarte rápidamente a nuevas tecnologías. No solo estarás más preparado para enfrentar los desafíos del futuro laboral\, sino que te convertirás en un profesional que destaca por su capacidad de adaptación y manejo de tecnologías avanzadas.
URL:https://luisgyg.com/event/si-no-aprendes-ia-ahora-podrias-quedar-irrelevante-en-el-trabajo/
CATEGORIES:Talleres
ATTACH;FMTTYPE=image/jpeg:https://luisgyg.com/wp-content/uploads/2024/10/TALLER-IA-1.jpg
END:VEVENT
BEGIN:VEVENT
DTSTART;TZID=America/Mexico_City:20241128T100000
DTEND;TZID=America/Mexico_City:20241128T120000
DTSTAMP:20260420T102046
CREATED:20241029T233220Z
LAST-MODIFIED:20241104T184322Z
UID:216033-1732788000-1732795200@luisgyg.com
SUMMARY:Taller: I.A. para Agencias de Eventos - Sesión 4
DESCRIPTION:Este mes\, la agencia Mint me ha confiado la capacitación de su equipo en inteligencia artificial. Será un taller cerrado\, hecho a la medida de sus necesidades\, enfocado en resolver problemas específicos como la optimización de tiempo y la eficiencia en procesos de trabajo. \nLa realidad es que muchas agencias pierden horas valiosas en proyectos que no siempre resultan en nuevos clientes. En este taller\, estamos trabajando con herramientas avanzadas de inteligencia artificial que ayudarán a este tipo de agencias a acelerar esos procesos sin comprometer la calidad. Nada de tutoriales básicos\, aquí vamos directo a soluciones que realmente hacen la diferencia. \nDesde la generación de imágenes y presentaciones hasta la automatización de minutas\, todo estará optimizado. Con plataformas como Copilot\, Perplexity y Claude\, el equipo de Mint aprenderá a mejorar su flujo de trabajo sin perder tiempo en pruebas y errores. La idea es que cada acción sea más rápida y efectiva\, con menos esfuerzo manual. \nEste taller está diseñado para que el equipo de Mint no solo se adapte a las nuevas tecnologías\, sino que las domine. El objetivo es que lo que hoy les toma días\, mañana les tome solo unas horas\, y siempre manteniendo la calidad que se necesita para ganar más licitaciones. \nSi tú o tu empresa necesitan una capacitación personalizada como la de Mint\, escríbeme y vemos cómo los puedo ayudar. La IA generativa no es el futuro\, es el presente\, y si aún no la estás usando para optimizar tus procesos\, ya es hora de hacerlo.
URL:https://luisgyg.com/event/taller-todavia-pierdes-horas-en-propuestas-la-ia-ya-esta-resolviendo-eso-2-2-2/
LOCATION:Privado
CATEGORIES:Talleres
ATTACH;FMTTYPE=image/jpeg:https://luisgyg.com/wp-content/uploads/2024/10/TALLER-AGENCIA-EVENTOS.jpg
ORGANIZER;CN="LuisGyG":MAILTO:contacto@luisgyg.com
END:VEVENT
BEGIN:VEVENT
DTSTART;TZID=America/Mexico_City:20241128T160000
DTEND;TZID=America/Mexico_City:20241128T180000
DTSTAMP:20260420T102046
CREATED:20241029T230411Z
LAST-MODIFIED:20241029T230411Z
UID:216010-1732809600-1732816800@luisgyg.com
SUMMARY:Si no aprendes IA ahora\, podrías quedar irrelevante en el trabajo - Sesión 2
DESCRIPTION:El taller “IA para la Comunicación y Relaciones Públicas”\, que estaré impartiendo junto con la gente de PRORP\, está diseñado específicamente para que profesionales de la comunicación puedan integrar la inteligencia artificial en su trabajo de manera práctica y efectiva. Sin embargo\, no es exclusivo para quienes trabajan en estas áreas; cualquier persona interesada en mejorar su productividad y habilidades con IA puede beneficiarse. Si buscas estar a la vanguardia y aprovechar las tecnologías emergentes para destacar en tu campo\, este taller te ofrece justo lo que necesitas. \nHoy más que nunca\, la automatización y la inteligencia artificial están transformando las industrias. Este taller te ayudará a no quedarte atrás\, proporcionándote herramientas prácticas para asegurar que no solo sobrevivas en este entorno\, sino que prosperes. Aprenderás a utilizar plataformas como Copilot y Perplexity\, a generar contenido optimizado para SEO y a manejar de manera eficiente presentaciones\, imágenes y videos\, todo con la ayuda de la IA. Este conocimiento te permitirá adaptarte rápidamente a los cambios tecnológicos. \nEl taller también aborda tres problemas clave que muchos profesionales enfrentan hoy: la inseguridad laboral\, la falta de conocimientos en IA y la dificultad para adaptarse a nuevas tecnologías. Aquí no necesitas ser un experto en tecnología\, ya que te enseñaremos a dominar las herramientas de IA de manera sencilla y directa. Las habilidades que obtendrás te permitirán mejorar tu posición laboral y enfrentar los retos actuales con confianza. \nEstá dirigido a cualquier profesional\, emprendedor o ejecutivo que quiera mantenerse competitivo en el mercado actual. Aunque el enfoque es ideal para las áreas de comunicación y relaciones públicas\, no necesitas estar en esos departamentos para aprovechar todo lo que este taller ofrece. Si buscas integrar la IA en tus procesos y mejorar la eficiencia de tu trabajo\, este curso es para ti. \nAl finalizar el taller\, tendrás en tus manos una serie de herramientas y conocimientos que te permitirán optimizar tus procesos\, generar contenido de calidad y adaptarte rápidamente a nuevas tecnologías. No solo estarás más preparado para enfrentar los desafíos del futuro laboral\, sino que te convertirás en un profesional que destaca por su capacidad de adaptación y manejo de tecnologías avanzadas.
URL:https://luisgyg.com/event/si-no-aprendes-ia-ahora-podrias-quedar-irrelevante-en-el-trabajo-2/
CATEGORIES:Talleres
ATTACH;FMTTYPE=image/jpeg:https://luisgyg.com/wp-content/uploads/2024/10/TALLER-IA-1.jpg
END:VEVENT
END:VCALENDAR