BEGIN:VCALENDAR
VERSION:2.0
PRODID:-//LuisGyG - ECPv6.15.17.1//NONSGML v1.0//EN
CALSCALE:GREGORIAN
METHOD:PUBLISH
X-ORIGINAL-URL:https://luisgyg.com
X-WR-CALDESC:Eventos para LuisGyG
REFRESH-INTERVAL;VALUE=DURATION:PT1H
X-Robots-Tag:noindex
X-PUBLISHED-TTL:PT1H
BEGIN:VTIMEZONE
TZID:America/Mexico_City
BEGIN:STANDARD
TZOFFSETFROM:-0600
TZOFFSETTO:-0600
TZNAME:CST
DTSTART:20230101T000000
END:STANDARD
END:VTIMEZONE
BEGIN:VEVENT
DTSTART;TZID=America/Mexico_City:20240905T080000
DTEND;TZID=America/Mexico_City:20240905T140000
DTSTAMP:20260420T135306
CREATED:20240727T151945Z
LAST-MODIFIED:20240914T142435Z
UID:213232-1725523200-1725544800@luisgyg.com
SUMMARY:TD Synnex | Inteligencia Artificial en la Nube
DESCRIPTION:Estoy emocionado de anunciar que estaré dando una conferencia para la empresa TDSynnex y AWS sobre inteligencia artificial con un enfoque en la nube. En esta charla\, exploraremos las últimas tendencias en IA\, como el uso de machine learning y análisis predictivo\, y cómo estas tecnologías están revolucionando distintos sectores. Además\, discutiremos los beneficios clave de implementar IA en la nube\, incluyendo la escalabilidad\, reducción de costos\, y la mejora en la eficiencia operativa. También compartiré estrategias prácticas para la implementación efectiva de estas tecnologías\, destacando casos de éxito y mejores prácticas que pueden ser aplicadas en cualquier organización. ¡Nos vemos pronto para compartir este tema!
URL:https://luisgyg.com/event/td-synnex-inteligencia-artificial-en-la-nube/
LOCATION:Privado
CATEGORIES:Conferencias
ATTACH;FMTTYPE=image/webp:https://luisgyg.com/wp-content/uploads/2024/07/TDSYNNEX-LUISGYG-2.webp
END:VEVENT
BEGIN:VEVENT
DTSTART;TZID=America/Mexico_City:20240906T110000
DTEND;TZID=America/Mexico_City:20240906T130000
DTSTAMP:20260420T135306
CREATED:20240825T141950Z
LAST-MODIFIED:20240914T142435Z
UID:215124-1725620400-1725627600@luisgyg.com
SUMMARY:Taller I.A. para Bitso
DESCRIPTION:La rápida evolución de la tecnología está redefiniendo lo que significa ser un profesional exitoso en el siglo XXI. Hoy en día\, no basta con tener experiencia en tu campo; es crucial actualizar constantemente tus habilidades para mantenerte relevante. Estaré impartiendo un taller de I.A. para el equipo de Bitso los días 6\, 11 y 13 de septiembre\, enfocado en dotar a los participantes con las herramientas necesarias para dominar la inteligencia artificial en su trabajo diario. La IA se ha convertido en una habilidad indispensable que todo profesional debe agregar a su conjunto de competencias\, y en este taller abordaremos cómo integrar estas tecnologías en la creación de contenido y estrategias digitales. \n\nTaller I.A. para Bitso: Habilidades para el Nuevo Entorno Laboral\nDurante el taller de I.A. para Bitso\, los participantes aprenderán a utilizar la inteligencia artificial para automatizar tareas\, optimizar procesos y generar contenido de manera eficiente. Este tipo de habilidades ya no son opcionales; son esenciales para cualquier profesional que quiera destacar en su carrera. Por ejemplo\, veremos cómo crear presentaciones impactantes en menos tiempo\, escribir minutas de reuniones de forma automática\, y utilizar la IA para análisis rápidos de videos y audios\, optimizando así el flujo de trabajo. Según un informe de McKinsey\, las empresas que adoptan IA en sus operaciones logran hasta un 40% de mejora en eficiencia. \nEl taller de I.A. para Bitso no solo se centrará en la adquisición de habilidades técnicas\, sino en cómo aplicar estas habilidades de manera estratégica en el día a día. Aprenderemos a utilizar la IA para generar mensajes efectivos para redes sociales y optimizar textos para motores de búsqueda (SEO)\, lo cual es clave para cualquier estrategia de marketing digital. La integración de estas habilidades te permitirá no solo mantenerte relevante en tu profesión\, sino también liderar con confianza en un mercado laboral en constante cambio. Si estás buscando un conferencista en tecnología e inteligencia artificial\, puedes contactarme a contacto@luisgyg.com para discutir cómo puedo ayudar a tu equipo a estar preparado para el futuro.
URL:https://luisgyg.com/event/taller-i-a-para-bitso/
LOCATION:Privado
CATEGORIES:Talleres
ATTACH;FMTTYPE=image/jpeg:https://luisgyg.com/wp-content/uploads/2024/08/TALLER-I.A.-luisgyg.jpg
ORGANIZER;CN="LuisGyG":MAILTO:contacto@luisgyg.com
END:VEVENT
BEGIN:VEVENT
DTSTART;TZID=America/Mexico_City:20240911T110000
DTEND;TZID=America/Mexico_City:20240911T130000
DTSTAMP:20260420T135306
CREATED:20240825T142111Z
LAST-MODIFIED:20240914T142435Z
UID:215128-1726052400-1726059600@luisgyg.com
SUMMARY:Taller I.A. para Bitso
DESCRIPTION:La rápida evolución de la tecnología está redefiniendo lo que significa ser un profesional exitoso en el siglo XXI. Hoy en día\, no basta con tener experiencia en tu campo; es crucial actualizar constantemente tus habilidades para mantenerte relevante. Estaré impartiendo un taller de I.A. para el equipo de Bitso los días 6\, 11 y 13 de septiembre\, enfocado en dotar a los participantes con las herramientas necesarias para dominar la inteligencia artificial en su trabajo diario. La IA se ha convertido en una habilidad indispensable que todo profesional debe agregar a su conjunto de competencias\, y en este taller abordaremos cómo integrar estas tecnologías en la creación de contenido y estrategias digitales. \n\nTaller I.A. para Bitso: Habilidades para el Nuevo Entorno Laboral\nDurante el taller de I.A. para Bitso\, los participantes aprenderán a utilizar la inteligencia artificial para automatizar tareas\, optimizar procesos y generar contenido de manera eficiente. Este tipo de habilidades ya no son opcionales; son esenciales para cualquier profesional que quiera destacar en su carrera. Por ejemplo\, veremos cómo crear presentaciones impactantes en menos tiempo\, escribir minutas de reuniones de forma automática\, y utilizar la IA para análisis rápidos de videos y audios\, optimizando así el flujo de trabajo. Según un informe de McKinsey\, las empresas que adoptan IA en sus operaciones logran hasta un 40% de mejora en eficiencia. \nEl taller de I.A. para Bitso no solo se centrará en la adquisición de habilidades técnicas\, sino en cómo aplicar estas habilidades de manera estratégica en el día a día. Aprenderemos a utilizar la IA para generar mensajes efectivos para redes sociales y optimizar textos para motores de búsqueda (SEO)\, lo cual es clave para cualquier estrategia de marketing digital. La integración de estas habilidades te permitirá no solo mantenerte relevante en tu profesión\, sino también liderar con confianza en un mercado laboral en constante cambio. Si estás buscando un conferencista en tecnología e inteligencia artificial\, puedes contactarme a contacto@luisgyg.com para discutir cómo puedo ayudar a tu equipo a estar preparado para el futuro.
URL:https://luisgyg.com/event/taller-i-a-para-bitso-2/
LOCATION:Privado
CATEGORIES:Talleres
ATTACH;FMTTYPE=image/jpeg:https://luisgyg.com/wp-content/uploads/2024/08/TALLER-I.A.-luisgyg.jpg
ORGANIZER;CN="LuisGyG":MAILTO:contacto@luisgyg.com
END:VEVENT
BEGIN:VEVENT
DTSTART;TZID=America/Mexico_City:20240913T110000
DTEND;TZID=America/Mexico_City:20240913T130000
DTSTAMP:20260420T135306
CREATED:20240825T142155Z
LAST-MODIFIED:20240914T142435Z
UID:215131-1726225200-1726232400@luisgyg.com
SUMMARY:Taller I.A. para Bitso
DESCRIPTION:La rápida evolución de la tecnología está redefiniendo lo que significa ser un profesional exitoso en el siglo XXI. Hoy en día\, no basta con tener experiencia en tu campo; es crucial actualizar constantemente tus habilidades para mantenerte relevante. Estaré impartiendo un taller de I.A. para el equipo de Bitso los días 6\, 11 y 13 de septiembre\, enfocado en dotar a los participantes con las herramientas necesarias para dominar la inteligencia artificial en su trabajo diario. La IA se ha convertido en una habilidad indispensable que todo profesional debe agregar a su conjunto de competencias\, y en este taller abordaremos cómo integrar estas tecnologías en la creación de contenido y estrategias digitales. \n\nTaller I.A. para Bitso: Habilidades para el Nuevo Entorno Laboral\nDurante el taller de I.A. para Bitso\, los participantes aprenderán a utilizar la inteligencia artificial para automatizar tareas\, optimizar procesos y generar contenido de manera eficiente. Este tipo de habilidades ya no son opcionales; son esenciales para cualquier profesional que quiera destacar en su carrera. Por ejemplo\, veremos cómo crear presentaciones impactantes en menos tiempo\, escribir minutas de reuniones de forma automática\, y utilizar la IA para análisis rápidos de videos y audios\, optimizando así el flujo de trabajo. Según un informe de McKinsey\, las empresas que adoptan IA en sus operaciones logran hasta un 40% de mejora en eficiencia. \nEl taller de I.A. para Bitso no solo se centrará en la adquisición de habilidades técnicas\, sino en cómo aplicar estas habilidades de manera estratégica en el día a día. Aprenderemos a utilizar la IA para generar mensajes efectivos para redes sociales y optimizar textos para motores de búsqueda (SEO)\, lo cual es clave para cualquier estrategia de marketing digital. La integración de estas habilidades te permitirá no solo mantenerte relevante en tu profesión\, sino también liderar con confianza en un mercado laboral en constante cambio. Si estás buscando un conferencista en tecnología e inteligencia artificial\, puedes contactarme a contacto@luisgyg.com para discutir cómo puedo ayudar a tu equipo a estar preparado para el futuro.
URL:https://luisgyg.com/event/taller-i-a-para-bitso-2-2/
LOCATION:Privado
CATEGORIES:Talleres
ATTACH;FMTTYPE=image/jpeg:https://luisgyg.com/wp-content/uploads/2024/08/TALLER-I.A.-luisgyg.jpg
ORGANIZER;CN="LuisGyG":MAILTO:contacto@luisgyg.com
END:VEVENT
BEGIN:VEVENT
DTSTART;TZID=America/Mexico_City:20240918T160000
DTEND;TZID=America/Mexico_City:20240918T190000
DTSTAMP:20260420T135306
CREATED:20240825T224701Z
LAST-MODIFIED:20240914T142855Z
UID:215191-1726675200-1726686000@luisgyg.com
SUMMARY:Curso Básico de Inteligencia Artificial: Nueva Fecha Confirmada - DIA 1
DESCRIPTION:¿Te preocupa quedarte atrás en el mercado laboral? Con el avance imparable de la inteligencia artificial\, es natural sentir incertidumbre sobre cómo afectará a tu carrera. Según un informe de Goldman Sachs\, hasta 300 millones de empleos podrían verse afectados por la IA en los próximos años. Si aún no dominas estas herramientas\, podrías estar poniendo en riesgo tu estabilidad laboral. Por eso\, ya está disponible la nueva fecha para mi curso de inteligencia artificial básico\, diseñado para que adquieras las habilidades que necesitas para enfrentar este desafío. \nDetalles del Curso de Inteligencia Artificial\nEl futuro del trabajo exige nuevas habilidades. La inteligencia artificial no es solo una tendencia pasajera\, sino una transformación profunda que está aquí para quedarse. Mi curso de inteligencia artificial\, que se llevará a cabo el 18 y 25 de septiembre vía Zoom\, es una oportunidad única para que te prepares. Durante seis horas intensivas\, aprenderás desde la generación de prompts hasta la integración avanzada de herramientas como Copilot en aplicaciones clave. Este curso de inteligencia artificial está diseñado para profesionales y emprendedores que desean mantenerse relevantes en un entorno laboral en constante evolución. \nNo dejes que la tecnología te tome por sorpresa. La falta de conocimientos en inteligencia artificial ya no es una opción si quieres mantenerte competitivo. Este curso de inteligencia artificial te proporcionará las herramientas prácticas que necesitas para adaptarte y prosperar. Aprovecha esta nueva oportunidad. Toda la información e inscripciones aquí.
URL:https://luisgyg.com/event/detalles-del-curso-de-inteligencia-artificial/
LOCATION:Zoom
CATEGORIES:Talleres
ATTACH;FMTTYPE=image/jpeg:https://luisgyg.com/wp-content/uploads/2024/08/curso-de-inteligencia-artificial-2-luisgyg.jpg
ORGANIZER;CN="LuisGyG":MAILTO:contacto@luisgyg.com
END:VEVENT
BEGIN:VEVENT
DTSTART;TZID=America/Mexico_City:20240925T160000
DTEND;TZID=America/Mexico_City:20240925T190000
DTSTAMP:20260420T135306
CREATED:20240914T142558Z
LAST-MODIFIED:20240914T142806Z
UID:215548-1727280000-1727290800@luisgyg.com
SUMMARY:Curso Básico de Inteligencia Artificial: Nueva Fecha Confirmada - DIA 2
DESCRIPTION:¿Te preocupa quedarte atrás en el mercado laboral? Con el avance imparable de la inteligencia artificial\, es natural sentir incertidumbre sobre cómo afectará a tu carrera. Según un informe de Goldman Sachs\, hasta 300 millones de empleos podrían verse afectados por la IA en los próximos años. Si aún no dominas estas herramientas\, podrías estar poniendo en riesgo tu estabilidad laboral. Por eso\, ya está disponible la nueva fecha para mi curso de inteligencia artificial básico\, diseñado para que adquieras las habilidades que necesitas para enfrentar este desafío. \nDetalles del Curso de Inteligencia Artificial\nEl futuro del trabajo exige nuevas habilidades. La inteligencia artificial no es solo una tendencia pasajera\, sino una transformación profunda que está aquí para quedarse. Mi curso de inteligencia artificial\, que se llevará a cabo el 18 y 25 de septiembre vía Zoom\, es una oportunidad única para que te prepares. Durante seis horas intensivas\, aprenderás desde la generación de prompts hasta la integración avanzada de herramientas como Copilot en aplicaciones clave. Este curso de inteligencia artificial está diseñado para profesionales y emprendedores que desean mantenerse relevantes en un entorno laboral en constante evolución. \nNo dejes que la tecnología te tome por sorpresa. La falta de conocimientos en inteligencia artificial ya no es una opción si quieres mantenerte competitivo. Este curso de inteligencia artificial te proporcionará las herramientas prácticas que necesitas para adaptarte y prosperar. Aprovecha esta nueva oportunidad. Toda la información e inscripciones aquí.
URL:https://luisgyg.com/event/detalles-del-curso-de-inteligencia-artificial-2/
LOCATION:Zoom
CATEGORIES:Talleres
ATTACH;FMTTYPE=image/jpeg:https://luisgyg.com/wp-content/uploads/2024/08/curso-de-inteligencia-artificial-2-luisgyg.jpg
ORGANIZER;CN="LuisGyG":MAILTO:contacto@luisgyg.com
END:VEVENT
BEGIN:VEVENT
DTSTART;TZID=America/Mexico_City:20240926T160000
DTEND;TZID=America/Mexico_City:20240926T190000
DTSTAMP:20260420T135306
CREATED:20240727T165632Z
LAST-MODIFIED:20240914T142435Z
UID:213273-1727366400-1727377200@luisgyg.com
SUMMARY:Dell Technologies Forum 2024
DESCRIPTION:Estaré moderando un panel en el Dell Technologies Forum 2024 en México. Este evento se llevará a cabo el jueves 26 de septiembre en Expo Santa Fe y es el lugar perfecto para descubrir las últimas tendencias en tecnología e inteligencia artificial. \nDetalles del evento: \n\nFecha: 26 de septiembre\nLugar: Expo Santa Fe\n\nModeraré dos paneles en paralelo al evento principal\, donde exploraremos cómo acelerar la innovación y convertir ideas en soluciones probadas. \nSi tu empresa está interesada en un taller personalizado\, contáctame en contacto@luisgyg.com.
URL:https://luisgyg.com/event/dell-technologies-forum-2024/
LOCATION:Expo Santa Fe
CATEGORIES:Conducción
ATTACH;FMTTYPE=image/webp:https://luisgyg.com/wp-content/uploads/2024/07/moderacion-panel-luisgyg.webp
END:VEVENT
END:VCALENDAR